BEGIN:VCALENDAR
VERSION:2.0
PRODID:-//Delta Omega Delta - ECPv6.15.20//NONSGML v1.0//EN
CALSCALE:GREGORIAN
METHOD:PUBLISH
X-WR-CALNAME:Delta Omega Delta
X-ORIGINAL-URL:https://deltaomegadelta.org
X-WR-CALDESC:Events for Delta Omega Delta
REFRESH-INTERVAL;VALUE=DURATION:PT1H
X-Robots-Tag:noindex
X-PUBLISHED-TTL:PT1H
BEGIN:VTIMEZONE
TZID:America/New_York
BEGIN:DAYLIGHT
TZOFFSETFROM:-0500
TZOFFSETTO:-0400
TZNAME:EDT
DTSTART:20230312T070000
END:DAYLIGHT
BEGIN:STANDARD
TZOFFSETFROM:-0400
TZOFFSETTO:-0500
TZNAME:EST
DTSTART:20231105T060000
END:STANDARD
BEGIN:DAYLIGHT
TZOFFSETFROM:-0500
TZOFFSETTO:-0400
TZNAME:EDT
DTSTART:20240310T070000
END:DAYLIGHT
BEGIN:STANDARD
TZOFFSETFROM:-0400
TZOFFSETTO:-0500
TZNAME:EST
DTSTART:20241103T060000
END:STANDARD
BEGIN:DAYLIGHT
TZOFFSETFROM:-0500
TZOFFSETTO:-0400
TZNAME:EDT
DTSTART:20250309T070000
END:DAYLIGHT
BEGIN:STANDARD
TZOFFSETFROM:-0400
TZOFFSETTO:-0500
TZNAME:EST
DTSTART:20251102T060000
END:STANDARD
END:VTIMEZONE
BEGIN:VEVENT
DTSTART;TZID=America/New_York:20240717T170000
DTEND;TZID=America/New_York:20240717T190000
DTSTAMP:20260425T123725
CREATED:20240607T215326Z
LAST-MODIFIED:20240705T135150Z
UID:508-1721235600-1721242800@deltaomegadelta.org
SUMMARY:Love Beyond Words Night
DESCRIPTION:Responding to the local need for pet food and supplies is fun and easy. Wear your favorite tropical clothing and practice your limbo. Bring what you can. Drop in or Stay to help.\nOnsite will be local organizations that assistance with pet food and supplies during food insecurity.\n\nPhoto Booth\, bake sale\, fun for the family.\nPlease no animals inside the building for safety reasons.\nFood curbside drop off starting at 4:30\n\nOur goal is 1000 pounds of food!!!\n\n\nRSVP for Volunteering at the Salvation Army
URL:https://deltaomegadelta.org/event/love-beyond-words-night/
LOCATION:Buker Community Center\, 22 Armory Street\, Augusta\, ME
ATTACH;FMTTYPE=image/png:https://deltaomegadelta.org/wp-content/uploads/2024/06/2024-07-17-luau-for-pet-chow.png
END:VEVENT
BEGIN:VEVENT
DTSTART;TZID=America/New_York:20240625T183000
DTEND;TZID=America/New_York:20240625T203000
DTSTAMP:20260425T123725
CREATED:20240425T012620Z
LAST-MODIFIED:20240430T005446Z
UID:477-1719340200-1719347400@deltaomegadelta.org
SUMMARY:Ladies Night Out at Moose Mountain Mini Golf
DESCRIPTION:To take advantage of the group rate of $10 per person we will have members pay Delta Directly in advance. This can be done in person or online. Any open Spots will be opened up to guests on June 20th.\n\nTee off is at 7 pm in groups of 5\n\nCarpooling will be available and details will be shared closer to the date.\n\n \n\nRSVP for Mini Golf   ||  Pay for Mini Golf
URL:https://deltaomegadelta.org/event/ladies-night-out-at-moose-mountain-mini-golf/
LOCATION:Maine
ATTACH;FMTTYPE=image/jpeg:https://deltaomegadelta.org/wp-content/uploads/2024/04/2024-06-25-mini-golf.jpg
END:VEVENT
BEGIN:VEVENT
DTSTART;TZID=America/New_York:20240617T180000
DTEND;TZID=America/New_York:20240617T200000
DTSTAMP:20260425T123725
CREATED:20240425T005913Z
LAST-MODIFIED:20240614T211927Z
UID:461-1718647200-1718654400@deltaomegadelta.org
SUMMARY:Glass Fusing
DESCRIPTION:This is a meet up with sisters night\, hosted by Veronica and Carmela.  Carmela will share her talent and love for glass with us. You will make an item for yourself.\n\nWe are asking you purchase your spot which includes materials for the night through our website\, a check sent to Melissa\, or hand it to Melissa or Lisa J prior to May 16th. The cost is $8.00.\n\nThis is a bring snacks and beverages to share night.\n\n*Pet friendly home
URL:https://deltaomegadelta.org/event/glass-fusing/
LOCATION:Maine
ATTACH;FMTTYPE=image/png:https://deltaomegadelta.org/wp-content/uploads/2024/04/2024-05-20-glass-fusing.png
END:VEVENT
BEGIN:VEVENT
DTSTART;TZID=America/New_York:20240613T170000
DTEND;TZID=America/New_York:20240613T183000
DTSTAMP:20260425T123725
CREATED:20240425T012341Z
LAST-MODIFIED:20240425T012719Z
UID:474-1718298000-1718303400@deltaomegadelta.org
SUMMARY:Meet up to  Volunteer @ Salvation Army
DESCRIPTION:We are heading over to help with a project for about an hour\, hour and a half. Come over after work do what you can and enjoy time together.\n\nWe will share details closer to the date.\n\nRSVP for this Meet up
URL:https://deltaomegadelta.org/event/meet-up-to-volunteer-salvation-army/
LOCATION:Salvation Army\, 36 Eastern Avenue\, Augusta\, ME
ATTACH;FMTTYPE=image/jpeg:https://deltaomegadelta.org/wp-content/uploads/2024/04/2024-06-13-salvation-army.jpg
END:VEVENT
BEGIN:VEVENT
DTSTART;TZID=America/New_York:20240603T173000
DTEND;TZID=America/New_York:20240603T190000
DTSTAMP:20260425T123725
CREATED:20240425T012000Z
LAST-MODIFIED:20240425T012134Z
UID:467-1717435800-1717441200@deltaomegadelta.org
SUMMARY:Vaughan Woods Walk
DESCRIPTION:Easy-paced walk in the beautiful Vaughan Woods. Keep an eye open for fairy houses.\nMeet at the tennis courts. bring bug spray and water.\n\nRSVP for the Meet up with Delta for a walk
URL:https://deltaomegadelta.org/event/vaughan-woods-walk/
LOCATION:Hall-Dale High School\, 97 Maple Street\, Farmingdale\, ME
ATTACH;FMTTYPE=image/jpeg:https://deltaomegadelta.org/wp-content/uploads/2024/04/2024-06-03-vaughan-woods-walk.jpg
END:VEVENT
BEGIN:VEVENT
DTSTART;TZID=America/New_York:20240517T180000
DTEND;TZID=America/New_York:20240517T210000
DTSTAMP:20260425T123725
CREATED:20240425T005218Z
LAST-MODIFIED:20240425T010252Z
UID:457-1715968800-1715979600@deltaomegadelta.org
SUMMARY:Sisterhood Celebration
DESCRIPTION:It’s our wear white evening. Together we will celebrate our friendships and start of year 7. Yearly charms will be given out and a few special things have been planned but mostly this is just a time to connect and enjoy conversation. The venue is lovely and will not disappoint.\n\nThose who are entering your second year\, will participate in the ritual of the oar (nothing is needed to be done prior).\nThis night will be a potluck night please bring something to share. Delta will provide all the paper goods\, non-alcoholic beverages\, salad\, and dessert. There is a full kitchen in case you need to warm something up or keep something cold.\nIf we have the honor of any new members we will welcome them in with the starfish charm.\nThe ask for Help is for clean up so we can have the door locked at 10pm. Could use some help with Centerpieces ( they will also be used later in the year) reach out to Lisa J\nOngoing help for Apron makers….can you sew\, cut\, or teach others to ? reach out to Lisa J\n\nRSVP for Delta’s Sisterhood Celebration
URL:https://deltaomegadelta.org/event/sisterhood-celebration/
LOCATION:St. Bridget Center\, 864 Main Street\, Vassalboro\, ME
ATTACH;FMTTYPE=image/png:https://deltaomegadelta.org/wp-content/uploads/2024/04/2024-05-17.png
END:VEVENT
BEGIN:VEVENT
DTSTART;TZID=America/New_York:20240504T190000
DTEND;TZID=America/New_York:20240504T203000
DTSTAMP:20260425T123725
CREATED:20240430T000720Z
LAST-MODIFIED:20240430T130237Z
UID:482-1714849200-1714854600@deltaomegadelta.org
SUMMARY:Kennebec Performing Arts Company Pops Concert
DESCRIPTION:The Kennebec Performing Arts Company is providing a Pops Concert featuring chorus\, wind ensemble\, and jazz band.  This concert is free\, donations are accepted. Lisa M will save you a seat if you text her which evening you would like to attend.  (Contact information is in the private Delta Facebook account.)  Lisa’s daughter\, Maya\, is playing trumpet in this concert. \nCome out to enjoy an evening by talented community members.
URL:https://deltaomegadelta.org/event/kennebec-performing-arts-company-pops-concert/
LOCATION:Winthrop High School\, 211 Rambler Road\, Winthrop\, Maine
ATTACH;FMTTYPE=image/png:https://deltaomegadelta.org/wp-content/uploads/2024/04/2024-05-03-Meet-up-with-Lisa-M.png
END:VEVENT
BEGIN:VEVENT
DTSTART;TZID=America/New_York:20240503T190000
DTEND;TZID=America/New_York:20240503T203000
DTSTAMP:20260425T123725
CREATED:20240430T000537Z
LAST-MODIFIED:20240430T130229Z
UID:479-1714762800-1714768200@deltaomegadelta.org
SUMMARY:Kennebec Performing Arts Company Pops Concert
DESCRIPTION:The Kennebec Performing Arts Company is providing a Pops Concert featuring chorus\, wind ensemble\, and jazz band.  This concert is free\, donations are accepted. Lisa M will save you a seat if you text her which evening you would like to attend.  (Contact information is in the private Delta Facebook account.)  Lisa’s daughter\, Maya\, is playing trumpet in this concert. \nCome out to enjoy an evening by talented community members.
URL:https://deltaomegadelta.org/event/kennebec-performing-arts-company-pops-concert-2024-05-03/
LOCATION:Winthrop High School\, 211 Rambler Road\, Winthrop\, Maine
ATTACH;FMTTYPE=image/png:https://deltaomegadelta.org/wp-content/uploads/2024/04/2024-05-03-Meet-up-with-Lisa-M.png
END:VEVENT
BEGIN:VEVENT
DTSTART;TZID=America/New_York:20240430T180000
DTEND;TZID=America/New_York:20240430T193000
DTSTAMP:20260425T123725
CREATED:20240325T131133Z
LAST-MODIFIED:20240325T133656Z
UID:424-1714500000-1714505400@deltaomegadelta.org
SUMMARY:Trivia at the Woodshed
DESCRIPTION:We are playing as a team and need your help. Visitors are welcome but please RSVP by Monday\, April 29 so we can grab enough tables. It’s our first time to the Cabin Master’s woodshed for trivia see ya there. \nRSVP for Trivia at the Woodshed
URL:https://deltaomegadelta.org/event/trivia-at-the-woodshed/
LOCATION:The Woodshed at Kennebec Cabin Company\, 911 Western Avenue\, Manchester\, Maine\, 04351
ATTACH;FMTTYPE=image/jpeg:https://deltaomegadelta.org/wp-content/uploads/2024/03/Trivia-Night.jpg
END:VEVENT
END:VCALENDAR