BEGIN:VCALENDAR
VERSION:2.0
PRODID:-//Delta Omega Delta - ECPv6.15.20//NONSGML v1.0//EN
CALSCALE:GREGORIAN
METHOD:PUBLISH
X-WR-CALNAME:Delta Omega Delta
X-ORIGINAL-URL:https://deltaomegadelta.org
X-WR-CALDESC:Events for Delta Omega Delta
REFRESH-INTERVAL;VALUE=DURATION:PT1H
X-Robots-Tag:noindex
X-PUBLISHED-TTL:PT1H
BEGIN:VTIMEZONE
TZID:America/New_York
BEGIN:DAYLIGHT
TZOFFSETFROM:-0500
TZOFFSETTO:-0400
TZNAME:EDT
DTSTART:20230312T070000
END:DAYLIGHT
BEGIN:STANDARD
TZOFFSETFROM:-0400
TZOFFSETTO:-0500
TZNAME:EST
DTSTART:20231105T060000
END:STANDARD
BEGIN:DAYLIGHT
TZOFFSETFROM:-0500
TZOFFSETTO:-0400
TZNAME:EDT
DTSTART:20240310T070000
END:DAYLIGHT
BEGIN:STANDARD
TZOFFSETFROM:-0400
TZOFFSETTO:-0500
TZNAME:EST
DTSTART:20241103T060000
END:STANDARD
BEGIN:DAYLIGHT
TZOFFSETFROM:-0500
TZOFFSETTO:-0400
TZNAME:EDT
DTSTART:20250309T070000
END:DAYLIGHT
BEGIN:STANDARD
TZOFFSETFROM:-0400
TZOFFSETTO:-0500
TZNAME:EST
DTSTART:20251102T060000
END:STANDARD
BEGIN:DAYLIGHT
TZOFFSETFROM:-0500
TZOFFSETTO:-0400
TZNAME:EDT
DTSTART:20260308T070000
END:DAYLIGHT
BEGIN:STANDARD
TZOFFSETFROM:-0400
TZOFFSETTO:-0500
TZNAME:EST
DTSTART:20261101T060000
END:STANDARD
END:VTIMEZONE
BEGIN:VEVENT
DTSTART;TZID=America/New_York:20250317T171500
DTEND;TZID=America/New_York:20250317T183000
DTSTAMP:20260424T181719
CREATED:20250305T010047Z
LAST-MODIFIED:20250305T011436Z
UID:756-1742231700-1742236200@deltaomegadelta.org
SUMMARY:Delta After Hours - Volunteer @ Arboretum
DESCRIPTION:Inside project for the educational program. Appleebee’s after for anyone wanting to grab some dinner together.
URL:https://deltaomegadelta.org/event/delta-after-hours-volunteer-arboretum/
LOCATION:Viles Arboretum\, 71 Stone Street\, Augusta\, Maine
ATTACH;FMTTYPE=image/jpeg:https://deltaomegadelta.org/wp-content/uploads/2025/03/2025-03-17-delta-after-hours.jpg
END:VEVENT
BEGIN:VEVENT
DTSTART;TZID=America/New_York:20250314T190000
DTEND;TZID=America/New_York:20250314T203000
DTSTAMP:20260424T181719
CREATED:20250305T005630Z
LAST-MODIFIED:20250305T012210Z
UID:750-1741978800-1741984200@deltaomegadelta.org
SUMMARY:The Not So Boring Annual Meeting
DESCRIPTION:A quick pat on our back for an amazing year. An account of the $checkbook. The vision and calendar  yup you’re reading this correctly for our new year. To keep this fun. \nThe fridge will have soda\, beer\, and seltzers. Snacks to share and paper flower making like you have never experienced before. We also have right\, left\, center\, and prizes. \nExtend the night out with the escape room just next door and Applebees late night  happy hour near by.
URL:https://deltaomegadelta.org/event/2025-annual-meeting/
LOCATION:The Orzy\, 11 Parkwood Drive\, Augusta\, Maine\, 04330
ATTACH;FMTTYPE=image/jpeg:https://deltaomegadelta.org/wp-content/uploads/2025/03/2025-03-14-annual-meeting.jpg
END:VEVENT
BEGIN:VEVENT
DTSTART;TZID=America/New_York:20250219T180000
DTEND;TZID=America/New_York:20250219T200000
DTSTAMP:20260424T181719
CREATED:20240929T154105Z
LAST-MODIFIED:20250124T222249Z
UID:660-1739988000-1739995200@deltaomegadelta.org
SUMMARY:Grannies' Night Out - Party with Purpose
DESCRIPTION:Ladies Game night. How old will you go ….. This is a fun night of game playing with tons of prizes to win. limited amount of tickets so do not delay. \n21 and older \nBYOB \nTickets $15\, Members $5.00 discount \nDelta never needs a reason to gather but when we do it is always for a purpose. Proceeds of the night go to warming kits for local organizations. \n\n \n\nGrannie’s Night \n$10.50 – $15.75 \nBuy now
URL:https://deltaomegadelta.org/event/grannies-night-out-party-with-purpose/
LOCATION:Viles Arboretum\, 71 Stone Street\, Augusta\, Maine
ATTACH;FMTTYPE=image/jpeg:https://deltaomegadelta.org/wp-content/uploads/2024/09/2024-11-15-grannie-night.jpg
END:VEVENT
BEGIN:VEVENT
DTSTART;TZID=America/New_York:20250130T180000
DTEND;TZID=America/New_York:20250130T233000
DTSTAMP:20260424T181719
CREATED:20250124T223241Z
LAST-MODIFIED:20250124T224313Z
UID:736-1738260000-1738279800@deltaomegadelta.org
SUMMARY:The Smelts Are Running
DESCRIPTION:Togetherness at its finest. We have reserved a 10-person smelt shack on the Kennebec River in Randolph for an evening of smelting (a tiny fish\, lol). There’s no guarantee we will catch any\, but there is a guarantee we will have fun trying. \nThe cost is $20.00 per lady based on 10 people. If we have more or less interest we can reserve more or a smaller camp. \nPLEASE let me know if you can make it and maybe we can open this up to other ladies.
URL:https://deltaomegadelta.org/event/the-smelts-are-running/
LOCATION:Jim Worthing Smelt Camp\, 145 Water Street\, Randolph\, ME\, 04346
ATTACH;FMTTYPE=image/png:https://deltaomegadelta.org/wp-content/uploads/2025/01/2025-01-30-smelting.png
END:VEVENT
BEGIN:VEVENT
DTSTART;TZID=America/New_York:20250123T183000
DTEND;TZID=America/New_York:20250123T203000
DTSTAMP:20260424T181719
CREATED:20250107T151845Z
LAST-MODIFIED:20250107T152107Z
UID:727-1737657000-1737664200@deltaomegadelta.org
SUMMARY:Paint "By Number" Party
DESCRIPTION:Purchase a paint by numbers kit of your choice (make sure it comes with your paint and brushes). Maybe you got one for Christmas but if not tons of them are on sale now. \nRSVP to let us know you’re attending and any names of friends who want to tag along. \nVery relaxed night to enjoy each others company and get a little creative. The Salvation Army building has plenty of parking in the back. This is a sober night but as always we are a 21+ women’s club. \nWe will have paper invitations at Cabin Fever Reliever night (AKA Lumber Jack night).
URL:https://deltaomegadelta.org/event/paint-by-number-party/
LOCATION:Salvation Army\, 36 Eastern Avenue\, Augusta\, ME
ATTACH;FMTTYPE=image/jpeg:https://deltaomegadelta.org/wp-content/uploads/2025/01/2025-01-23-paint-party.jpg
END:VEVENT
BEGIN:VEVENT
DTSTART;TZID=America/New_York:20250115T180000
DTEND;TZID=America/New_York:20250115T203000
DTSTAMP:20260424T181719
CREATED:20240929T155133Z
LAST-MODIFIED:20250107T152238Z
UID:670-1736964000-1736973000@deltaomegadelta.org
SUMMARY:Cabin Fever Reliever - Vision & Goal Boards - Drop Anchor for the Unhoused
DESCRIPTION:Join Delta Omega Delta for a fun night out with friends as we take a Lumber Jack wack out of winter\, Vision Boards\, Warming Kits & Book Swap. \nYour Vision 2025\nA brief vision board building presentation.  Bring old magazines to share or printouts you want to include.  Materials and workspace provided. \nDear Readers\,\nThe swap table is simple. Bring a gently read book and take one.  3 Book swap limit.  Anything not taken is donated to the Readfield Library. \nWarming the Unhoused\nWe are collecting items to aid in keeping neighbors warm this winter.  We will build kits that can go immediately to those in need.  Several ladies from area non-profits will be enjoying the night with us. \nRSVP for Cabin Fever Reliever\n  \nWearing flannel or beards is optional.
URL:https://deltaomegadelta.org/event/cabin-fever-reliever/
LOCATION:Buker Community Center\, 22 Armory Street\, Augusta\, ME
ATTACH;FMTTYPE=image/png:https://deltaomegadelta.org/wp-content/uploads/2024/09/2025-01-15-cabin-fever-1.png
END:VEVENT
BEGIN:VEVENT
DTSTART;TZID=America/New_York:20241213T180000
DTEND;TZID=America/New_York:20241213T200000
DTSTAMP:20260424T181719
CREATED:20240929T154724Z
LAST-MODIFIED:20240929T165145Z
UID:666-1734112800-1734120000@deltaomegadelta.org
SUMMARY:Sisterhood Night with Sara and Isabelle
DESCRIPTION:Cookies\, Christmas\, and Sisterhood!\nLet’s gather at the lovely Kennebec Historical Society\, all decked out for the holidays\, to sample and swap cookies. Feel free to bring cookies inspired by a beloved book—like cranberry cookies for a Cape Cod setting! \nLooking forward to a cozy\, festive time together! \nWhat to bring: 30 cookies or bars. This amount includes enough for the cookie swap and for sampling during our evening. Please include a list of ingredients for allergens or share your recipe! \nPARKING: Plenty of street parking \nPlease respond to Delta event posting by Dec 11th
URL:https://deltaomegadelta.org/event/sisterhood-night-with-sara-and-isabelle/
LOCATION:Kennebec Historical Society\, 1 N. Chestnut Street\, Augusta\, Maine\, 04330
ATTACH;FMTTYPE=image/jpeg:https://deltaomegadelta.org/wp-content/uploads/2024/09/2024-12-13-cookie-swap.jpg
END:VEVENT
BEGIN:VEVENT
DTSTART;TZID=America/New_York:20241203T180000
DTEND;TZID=America/New_York:20241203T200000
DTSTAMP:20260424T181719
CREATED:20240929T154417Z
LAST-MODIFIED:20240929T163809Z
UID:663-1733248800-1733256000@deltaomegadelta.org
SUMMARY:Sisterhood Night with Carrie B
DESCRIPTION:Festive Holiday Centerpiece\nJoin Carrie B for a hands-on event where we’ll create a stunning holiday centerpiece! Carrie will provide all the greenery you need to make your centerpiece truly special. \nBut that’s not all! As a bonus\, you’ll also learn how to craft a natural pine cleaning solution to keep your home smelling fresh throughout the season. Just bring a covered jar for the pine solution. \nDetails:\nCost: $5.00 – pay Carrie via venmo @Four-Ponds\nWhat to Bring: A covered jar for the cleaning solution\nWhat’s Included: Greenery for the centerpiece\, all crafting supplies\, and a festive atmosphere!\nLocation:  See Facebook event. \nDon’t miss out on the fun and the chance to bring home the delightful scent of pine for the holidays! \nPlease RSVP by November 26
URL:https://deltaomegadelta.org/event/sisterhood-night-with-carrie-b/
LOCATION:ME
ATTACH;FMTTYPE=image/jpeg:https://deltaomegadelta.org/wp-content/uploads/2024/09/2024-12-03-holiday-centerpieces.jpg
END:VEVENT
BEGIN:VEVENT
DTSTART;TZID=America/New_York:20241107T183000
DTEND;TZID=America/New_York:20241107T193000
DTSTAMP:20260424T181719
CREATED:20240809T210929Z
LAST-MODIFIED:20240929T164102Z
UID:627-1731004200-1731007800@deltaomegadelta.org
SUMMARY:Friendship Tea - Members Only
DESCRIPTION:This will be a time to see the home in its full Christmas decor. Grab a finger sandwich and cup of tea and enjoy some conversation with friends. \nMore details will be given closer to the date. The leadership team will be meeting prior 5:30 to 6:15.  See details in the FB leadership group. \nRSVP for this Event
URL:https://deltaomegadelta.org/event/friendship-tea-members-only/
LOCATION:Viles Arboretum\, 71 Stone Street\, Augusta\, Maine
ATTACH;FMTTYPE=image/jpeg:https://deltaomegadelta.org/wp-content/uploads/2024/08/2024-11-07-friendship-tea.jpg
END:VEVENT
BEGIN:VEVENT
DTSTART;TZID=America/New_York:20241022T180000
DTEND;TZID=America/New_York:20241022T200000
DTSTAMP:20260424T181719
CREATED:20240721T202035Z
LAST-MODIFIED:20240929T164214Z
UID:612-1729620000-1729627200@deltaomegadelta.org
SUMMARY:Absolum Cider - Members Only
DESCRIPTION:The perfect fall meet-up. No agenda just friends gathering.
URL:https://deltaomegadelta.org/event/absolum-cider/
LOCATION:Absolum Cider\, 799 Winthrop Center Road\, Winthrop\, Maine\, 04364
ATTACH;FMTTYPE=image/png:https://deltaomegadelta.org/wp-content/uploads/2024/07/2024-10-22-absolum-cider.png
END:VEVENT
BEGIN:VEVENT
DTSTART;TZID=America/New_York:20241014T100000
DTEND;TZID=America/New_York:20241014T120000
DTSTAMP:20260424T181719
CREATED:20240929T153739Z
LAST-MODIFIED:20240929T164248Z
UID:656-1728900000-1728907200@deltaomegadelta.org
SUMMARY:Apple Picking and Cider Tasting
DESCRIPTION:It’s a holiday why not come out for some girl time. We would love to meet your friends and tell them a little about who we are. We will be in the tasting/store at 10 to 10:30 then everyone can go pick as interested or try a flight and enjoy the donuts and view.
URL:https://deltaomegadelta.org/event/apple-picking-and-cider-tasting/
LOCATION:Vista of Maine Winery\, 146 N. Hills Ridge\, Greene\, 04236
ATTACH;FMTTYPE=image/jpeg:https://deltaomegadelta.org/wp-content/uploads/2024/09/2024-10-14-ladies-social-mixer.jpg
END:VEVENT
BEGIN:VEVENT
DTSTART;TZID=America/New_York:20241010T170000
DTEND;TZID=America/New_York:20241010T183000
DTSTAMP:20260424T181719
CREATED:20240929T153000Z
LAST-MODIFIED:20240929T165053Z
UID:653-1728579600-1728585000@deltaomegadelta.org
SUMMARY:Coat Drive Set Up
DESCRIPTION:Our help is needed to sort and hang coats for the upcoming coat giveaway at the Salvation Army. If you could come for the whole time or just a little time\, we would make a big impact in our community. If you have coworkers or friends that would like to join us\, please invite them. \nNo children please. \nPlease RSVP for the Coat Drive Set Up.
URL:https://deltaomegadelta.org/event/coat-drive-set-up/
LOCATION:Salvation Army\, 36 Eastern Avenue\, Augusta\, ME
ATTACH;FMTTYPE=image/jpeg:https://deltaomegadelta.org/wp-content/uploads/2024/09/2024-10-10-coat-drive.jpg
END:VEVENT
BEGIN:VEVENT
DTSTART;TZID=America/New_York:20241002T100000
DTEND;TZID=America/New_York:20241002T120000
DTSTAMP:20260424T181719
CREATED:20240929T152759Z
LAST-MODIFIED:20240929T164614Z
UID:649-1727863200-1727870400@deltaomegadelta.org
SUMMARY:Mini-Golf Midweek with Kimberly
DESCRIPTION:If you’re not working and would like to get out of the house come play mini-golf with Kimberly and Lisa J. \nPlease RSVP by Tuesday 7 pm
URL:https://deltaomegadelta.org/event/mini-golf-midweek-with-kimberly/
LOCATION:Desert of Maine Mini-Golf\, 95 Desert Road\, Freeport\, ME\, 04032
ATTACH;FMTTYPE=image/jpeg:https://deltaomegadelta.org/wp-content/uploads/2024/09/2024-10-02-mini-golf.jpg
END:VEVENT
BEGIN:VEVENT
DTSTART;TZID=America/New_York:20241001T170000
DTEND;TZID=America/New_York:20241001T183000
DTSTAMP:20260424T181719
CREATED:20240929T152109Z
LAST-MODIFIED:20240929T165010Z
UID:644-1727802000-1727807400@deltaomegadelta.org
SUMMARY:Vaughan Woods - Ladies Walk
DESCRIPTION:Ladies walk. Members and guests are welcome. Put your sneakers in your car and head over after work. This is a short walk because of daylight. \nWater and apple cider in the parking lot after so we can chat for a bit.  This is a great time to meet us and see what we are all about. \nThe trailhead is by the tennis courts at the Hall-Dale High School. \nPlease RSVP for the Ladies Walk in Vaughn Woods.
URL:https://deltaomegadelta.org/event/vaughan-woods-ladies-walk/
LOCATION:Hall-Dale High School\, 97 Maple Street\, Farmingdale\, ME
ATTACH;FMTTYPE=image/jpeg:https://deltaomegadelta.org/wp-content/uploads/2024/09/2024-10-01-vaughan-woods.jpg
END:VEVENT
BEGIN:VEVENT
DTSTART;TZID=America/New_York:20240926T173000
DTEND;TZID=America/New_York:20240926T210000
DTSTAMP:20260424T181719
CREATED:20240721T201451Z
LAST-MODIFIED:20240721T201451Z
UID:606-1727371800-1727384400@deltaomegadelta.org
SUMMARY:Dinner & Escape Room
DESCRIPTION:Dinner (optional) 5:30 @ El Agave \n7 pm Escape Room\, Augusta.  $30/ticket \nHospitality room following.  BYOB.
URL:https://deltaomegadelta.org/event/dinner-escape-room/
LOCATION:ME
ATTACH;FMTTYPE=image/png:https://deltaomegadelta.org/wp-content/uploads/2024/07/2024-09-26-dinner-escape-room.png
END:VEVENT
BEGIN:VEVENT
DTSTART;TZID=America/New_York:20240920T183000
DTEND;TZID=America/New_York:20240920T203000
DTSTAMP:20260424T181719
CREATED:20240721T201244Z
LAST-MODIFIED:20240809T211202Z
UID:604-1726857000-1726864200@deltaomegadelta.org
SUMMARY:Sisterhood Bonfire and Storytelling
DESCRIPTION:DATE: Friday\, Sept 20Arrive: 6:30p\nLOCATION:  See the sisterhood facebook page.\n\nEvent:\nLadies\, grab your flannels and cozy up by the fire for a night of storytelling and sharing at our Fall Campfire event! Sip on some spiked cider or your favorite fall cocktail\, cook hot dogs\, and roast marshmallows as we swap spooky tales and hilarious anecdotes. This is the perfect opportunity to connect with other amazing women and enjoy the crisp autumn air. Don’t miss out on this edgy and unforgettable evening under the stars. Let’s make some memories and toast to sisterhood around the campfire! \nDress: campfire casual\nBring: can bring your favorite outdoor chair but Susan has extras. Bring fun campfire stories to share. Any guitars players willing to lead the group for some sing-alongs?Yes\, open to all membersPlease respond to Delta FB event posting if you can make it.No cost.\n\nRSVP for this Event
URL:https://deltaomegadelta.org/event/sisterhood-meet-up/
LOCATION:ME
ATTACH;FMTTYPE=image/png:https://deltaomegadelta.org/wp-content/uploads/2024/07/2024-09-20-sisterhood-meet-up.png
END:VEVENT
BEGIN:VEVENT
DTSTART;TZID=America/New_York:20240909T170000
DTEND;TZID=America/New_York:20240909T183000
DTSTAMP:20260424T181719
CREATED:20240721T201010Z
LAST-MODIFIED:20240721T201010Z
UID:600-1725901200-1725906600@deltaomegadelta.org
SUMMARY:Volunteer Night
DESCRIPTION:Help sort coats for the coat give away.
URL:https://deltaomegadelta.org/event/volunteer-night/
LOCATION:Salvation Army\, 36 Eastern Avenue\, Augusta\, ME
ATTACH;FMTTYPE=image/png:https://deltaomegadelta.org/wp-content/uploads/2024/07/2024-09-09-volunteer-night.png
END:VEVENT
BEGIN:VEVENT
DTSTART;TZID=America/New_York:20240822T170000
DTEND;TZID=America/New_York:20240822T210000
DTSTAMP:20260424T181719
CREATED:20240705T135550Z
LAST-MODIFIED:20240819T002705Z
UID:573-1724346000-1724360400@deltaomegadelta.org
SUMMARY:Flamingle Picnic for a Purpose
DESCRIPTION:Let’s Flamingle for a Cause!\nThursday\, August 22nd\n\n\n\nWhat’s Flamingle for a Cause?\n\nAn all-pink\, peach\, and flamingo party with a purpose\nParticipate with friends in a table decorating contest\nBring activity books and readers (glasses) for seniors and vote for your favorite table\nEnjoy laughter\, desserts and games\n\n\n\n\n\nWhere is Flamingle happening?\n\nFlamingle will be held in a secret location within 30 minutes of Augusta. We will let you know where on August 22.\nWe will provide a farm and field grazing table\, beverages and later in the night a dessert table.\nTickets: $15/per person\n\n\n\n\nOnce you save your seat you will be sent an email with more details of the night and your contact person who is there to help you get settled in. \nWe make meeting new friends easy!
URL:https://deltaomegadelta.org/event/flamingle/
LOCATION:ME
ATTACH;FMTTYPE=image/png:https://deltaomegadelta.org/wp-content/uploads/2024/07/banner-flamingle-2024-fb.png
END:VEVENT
BEGIN:VEVENT
DTSTART;TZID=America/New_York:20240818T080000
DTEND;TZID=America/New_York:20240818T120000
DTSTAMP:20260424T181719
CREATED:20240809T205858Z
LAST-MODIFIED:20240809T205858Z
UID:622-1723968000-1723982400@deltaomegadelta.org
SUMMARY:Back to School - PART 2
DESCRIPTION:Let’s help the Augusta Back to School program with their give-away event. Lina is part of this great organization and we love to support our members so show up and drop anchor.
URL:https://deltaomegadelta.org/event/back-to-school-part-2/
LOCATION:Augusta Civic Center\, 76 Community Drive\, Augusta\, ME\, 04330\, United States
ATTACH;FMTTYPE=image/png:https://deltaomegadelta.org/wp-content/uploads/2024/07/2024-08-10-back-to-school.png
END:VEVENT
BEGIN:VEVENT
DTSTART;TZID=America/New_York:20240812T180000
DTEND;TZID=America/New_York:20240812T190000
DTSTAMP:20260424T181719
CREATED:20240502T001910Z
LAST-MODIFIED:20240721T134410Z
UID:496-1723485600-1723489200@deltaomegadelta.org
SUMMARY:Gardiner Waterfront History Walk
DESCRIPTION:An evening walk with friends. Historian Sara will lead us on a light and enjoyable historical walk. Learn facts to amaze your friends or to improve your trivia game. \nMeet in the landing parking lot. Friends and family over age 16 are welcome to join us for the walk. \nFollowing the walk feel free to follow a few of our ladies over to Bateau Brewing. \nRSVP for the Gardiner Waterfront History Walk
URL:https://deltaomegadelta.org/event/gardiner-waterfront-history-walk/
LOCATION:Gardiner Maine\, Gardiner\, Maine
ATTACH;FMTTYPE=image/png:https://deltaomegadelta.org/wp-content/uploads/2024/05/History-Walk-Gardiner-v3.png
END:VEVENT
BEGIN:VEVENT
DTSTART;TZID=America/New_York:20240810T080000
DTEND;TZID=America/New_York:20240810T120000
DTSTAMP:20260424T181719
CREATED:20240721T200824Z
LAST-MODIFIED:20240809T211414Z
UID:597-1723276800-1723291200@deltaomegadelta.org
SUMMARY:Back to School
DESCRIPTION:Backpack packing August 10 starting at 8 am. \nGive Away on August 18 at 1 pm.
URL:https://deltaomegadelta.org/event/back-to-school/
LOCATION:Augusta Civic Center\, 76 Community Drive\, Augusta\, ME\, 04330\, United States
ATTACH;FMTTYPE=image/png:https://deltaomegadelta.org/wp-content/uploads/2024/07/2024-08-10-back-to-school.png
END:VEVENT
BEGIN:VEVENT
DTSTART;TZID=America/New_York:20240801T180000
DTEND;TZID=America/New_York:20240801T200000
DTSTAMP:20260424T181719
CREATED:20240721T200525Z
LAST-MODIFIED:20240721T200525Z
UID:595-1722535200-1722542400@deltaomegadelta.org
SUMMARY:It's Time for a Board Roundtable
DESCRIPTION:Dinner at Lisa’s Home provided at 6pm \nMeeting at 7pm with zoom option
URL:https://deltaomegadelta.org/event/its-time-for-a-board-roundtable/
LOCATION:ME
ATTACH;FMTTYPE=image/png:https://deltaomegadelta.org/wp-content/uploads/2024/07/2024-08-01-board-round-table.png
END:VEVENT
BEGIN:VEVENT
DTSTART;TZID=America/New_York:20240717T170000
DTEND;TZID=America/New_York:20240717T190000
DTSTAMP:20260424T181719
CREATED:20240607T215326Z
LAST-MODIFIED:20240705T135150Z
UID:508-1721235600-1721242800@deltaomegadelta.org
SUMMARY:Love Beyond Words Night
DESCRIPTION:Responding to the local need for pet food and supplies is fun and easy. Wear your favorite tropical clothing and practice your limbo. Bring what you can. Drop in or Stay to help.\nOnsite will be local organizations that assistance with pet food and supplies during food insecurity.\n\nPhoto Booth\, bake sale\, fun for the family.\nPlease no animals inside the building for safety reasons.\nFood curbside drop off starting at 4:30\n\nOur goal is 1000 pounds of food!!!\n\n\nRSVP for Volunteering at the Salvation Army
URL:https://deltaomegadelta.org/event/love-beyond-words-night/
LOCATION:Buker Community Center\, 22 Armory Street\, Augusta\, ME
ATTACH;FMTTYPE=image/png:https://deltaomegadelta.org/wp-content/uploads/2024/06/2024-07-17-luau-for-pet-chow.png
END:VEVENT
BEGIN:VEVENT
DTSTART;TZID=America/New_York:20240625T183000
DTEND;TZID=America/New_York:20240625T203000
DTSTAMP:20260424T181719
CREATED:20240425T012620Z
LAST-MODIFIED:20240430T005446Z
UID:477-1719340200-1719347400@deltaomegadelta.org
SUMMARY:Ladies Night Out at Moose Mountain Mini Golf
DESCRIPTION:To take advantage of the group rate of $10 per person we will have members pay Delta Directly in advance. This can be done in person or online. Any open Spots will be opened up to guests on June 20th.\n\nTee off is at 7 pm in groups of 5\n\nCarpooling will be available and details will be shared closer to the date.\n\n \n\nRSVP for Mini Golf   ||  Pay for Mini Golf
URL:https://deltaomegadelta.org/event/ladies-night-out-at-moose-mountain-mini-golf/
LOCATION:ME
ATTACH;FMTTYPE=image/jpeg:https://deltaomegadelta.org/wp-content/uploads/2024/04/2024-06-25-mini-golf.jpg
END:VEVENT
BEGIN:VEVENT
DTSTART;TZID=America/New_York:20240617T180000
DTEND;TZID=America/New_York:20240617T200000
DTSTAMP:20260424T181719
CREATED:20240425T005913Z
LAST-MODIFIED:20240614T211927Z
UID:461-1718647200-1718654400@deltaomegadelta.org
SUMMARY:Glass Fusing
DESCRIPTION:This is a meet up with sisters night\, hosted by Veronica and Carmela.  Carmela will share her talent and love for glass with us. You will make an item for yourself.\n\nWe are asking you purchase your spot which includes materials for the night through our website\, a check sent to Melissa\, or hand it to Melissa or Lisa J prior to May 16th. The cost is $8.00.\n\nThis is a bring snacks and beverages to share night.\n\n*Pet friendly home
URL:https://deltaomegadelta.org/event/glass-fusing/
LOCATION:ME
ATTACH;FMTTYPE=image/png:https://deltaomegadelta.org/wp-content/uploads/2024/04/2024-05-20-glass-fusing.png
END:VEVENT
BEGIN:VEVENT
DTSTART;TZID=America/New_York:20240613T170000
DTEND;TZID=America/New_York:20240613T183000
DTSTAMP:20260424T181719
CREATED:20240425T012341Z
LAST-MODIFIED:20240425T012719Z
UID:474-1718298000-1718303400@deltaomegadelta.org
SUMMARY:Meet up to  Volunteer @ Salvation Army
DESCRIPTION:We are heading over to help with a project for about an hour\, hour and a half. Come over after work do what you can and enjoy time together.\n\nWe will share details closer to the date.\n\nRSVP for this Meet up
URL:https://deltaomegadelta.org/event/meet-up-to-volunteer-salvation-army/
LOCATION:Salvation Army\, 36 Eastern Avenue\, Augusta\, ME
ATTACH;FMTTYPE=image/jpeg:https://deltaomegadelta.org/wp-content/uploads/2024/04/2024-06-13-salvation-army.jpg
END:VEVENT
BEGIN:VEVENT
DTSTART;TZID=America/New_York:20240603T173000
DTEND;TZID=America/New_York:20240603T190000
DTSTAMP:20260424T181719
CREATED:20240425T012000Z
LAST-MODIFIED:20240425T012134Z
UID:467-1717435800-1717441200@deltaomegadelta.org
SUMMARY:Vaughan Woods Walk
DESCRIPTION:Easy-paced walk in the beautiful Vaughan Woods. Keep an eye open for fairy houses.\nMeet at the tennis courts. bring bug spray and water.\n\nRSVP for the Meet up with Delta for a walk
URL:https://deltaomegadelta.org/event/vaughan-woods-walk/
LOCATION:Hall-Dale High School\, 97 Maple Street\, Farmingdale\, ME
ATTACH;FMTTYPE=image/jpeg:https://deltaomegadelta.org/wp-content/uploads/2024/04/2024-06-03-vaughan-woods-walk.jpg
END:VEVENT
BEGIN:VEVENT
DTSTART;TZID=America/New_York:20240517T180000
DTEND;TZID=America/New_York:20240517T210000
DTSTAMP:20260424T181719
CREATED:20240425T005218Z
LAST-MODIFIED:20240425T010252Z
UID:457-1715968800-1715979600@deltaomegadelta.org
SUMMARY:Sisterhood Celebration
DESCRIPTION:It’s our wear white evening. Together we will celebrate our friendships and start of year 7. Yearly charms will be given out and a few special things have been planned but mostly this is just a time to connect and enjoy conversation. The venue is lovely and will not disappoint.\n\nThose who are entering your second year\, will participate in the ritual of the oar (nothing is needed to be done prior).\nThis night will be a potluck night please bring something to share. Delta will provide all the paper goods\, non-alcoholic beverages\, salad\, and dessert. There is a full kitchen in case you need to warm something up or keep something cold.\nIf we have the honor of any new members we will welcome them in with the starfish charm.\nThe ask for Help is for clean up so we can have the door locked at 10pm. Could use some help with Centerpieces ( they will also be used later in the year) reach out to Lisa J\nOngoing help for Apron makers….can you sew\, cut\, or teach others to ? reach out to Lisa J\n\nRSVP for Delta’s Sisterhood Celebration
URL:https://deltaomegadelta.org/event/sisterhood-celebration/
LOCATION:St. Bridget Center\, 864 Main Street\, Vassalboro\, ME
ATTACH;FMTTYPE=image/png:https://deltaomegadelta.org/wp-content/uploads/2024/04/2024-05-17.png
END:VEVENT
BEGIN:VEVENT
DTSTART;TZID=America/New_York:20240504T190000
DTEND;TZID=America/New_York:20240504T203000
DTSTAMP:20260424T181719
CREATED:20240430T000720Z
LAST-MODIFIED:20240430T130237Z
UID:482-1714849200-1714854600@deltaomegadelta.org
SUMMARY:Kennebec Performing Arts Company Pops Concert
DESCRIPTION:The Kennebec Performing Arts Company is providing a Pops Concert featuring chorus\, wind ensemble\, and jazz band.  This concert is free\, donations are accepted. Lisa M will save you a seat if you text her which evening you would like to attend.  (Contact information is in the private Delta Facebook account.)  Lisa’s daughter\, Maya\, is playing trumpet in this concert. \nCome out to enjoy an evening by talented community members.
URL:https://deltaomegadelta.org/event/kennebec-performing-arts-company-pops-concert/
LOCATION:Winthrop High School\, 211 Rambler Road\, Winthrop\, Maine
ATTACH;FMTTYPE=image/png:https://deltaomegadelta.org/wp-content/uploads/2024/04/2024-05-03-Meet-up-with-Lisa-M.png
END:VEVENT
BEGIN:VEVENT
DTSTART;TZID=America/New_York:20240503T190000
DTEND;TZID=America/New_York:20240503T203000
DTSTAMP:20260424T181719
CREATED:20240430T000537Z
LAST-MODIFIED:20240430T130229Z
UID:479-1714762800-1714768200@deltaomegadelta.org
SUMMARY:Kennebec Performing Arts Company Pops Concert
DESCRIPTION:The Kennebec Performing Arts Company is providing a Pops Concert featuring chorus\, wind ensemble\, and jazz band.  This concert is free\, donations are accepted. Lisa M will save you a seat if you text her which evening you would like to attend.  (Contact information is in the private Delta Facebook account.)  Lisa’s daughter\, Maya\, is playing trumpet in this concert. \nCome out to enjoy an evening by talented community members.
URL:https://deltaomegadelta.org/event/kennebec-performing-arts-company-pops-concert-2024-05-03/
LOCATION:Winthrop High School\, 211 Rambler Road\, Winthrop\, Maine
ATTACH;FMTTYPE=image/png:https://deltaomegadelta.org/wp-content/uploads/2024/04/2024-05-03-Meet-up-with-Lisa-M.png
END:VEVENT
END:VCALENDAR