BEGIN:VCALENDAR
VERSION:2.0
PRODID:-//Delta Omega Delta - ECPv6.15.20//NONSGML v1.0//EN
CALSCALE:GREGORIAN
METHOD:PUBLISH
X-WR-CALNAME:Delta Omega Delta
X-ORIGINAL-URL:https://deltaomegadelta.org
X-WR-CALDESC:Events for Delta Omega Delta
REFRESH-INTERVAL;VALUE=DURATION:PT1H
X-Robots-Tag:noindex
X-PUBLISHED-TTL:PT1H
BEGIN:VTIMEZONE
TZID:America/New_York
BEGIN:DAYLIGHT
TZOFFSETFROM:-0500
TZOFFSETTO:-0400
TZNAME:EDT
DTSTART:20240310T070000
END:DAYLIGHT
BEGIN:STANDARD
TZOFFSETFROM:-0400
TZOFFSETTO:-0500
TZNAME:EST
DTSTART:20241103T060000
END:STANDARD
BEGIN:DAYLIGHT
TZOFFSETFROM:-0500
TZOFFSETTO:-0400
TZNAME:EDT
DTSTART:20250309T070000
END:DAYLIGHT
BEGIN:STANDARD
TZOFFSETFROM:-0400
TZOFFSETTO:-0500
TZNAME:EST
DTSTART:20251102T060000
END:STANDARD
BEGIN:DAYLIGHT
TZOFFSETFROM:-0500
TZOFFSETTO:-0400
TZNAME:EDT
DTSTART:20260308T070000
END:DAYLIGHT
BEGIN:STANDARD
TZOFFSETFROM:-0400
TZOFFSETTO:-0500
TZNAME:EST
DTSTART:20261101T060000
END:STANDARD
BEGIN:DAYLIGHT
TZOFFSETFROM:-0500
TZOFFSETTO:-0400
TZNAME:EDT
DTSTART:20270314T070000
END:DAYLIGHT
BEGIN:STANDARD
TZOFFSETFROM:-0400
TZOFFSETTO:-0500
TZNAME:EST
DTSTART:20271107T060000
END:STANDARD
END:VTIMEZONE
BEGIN:VEVENT
DTSTART;TZID=America/New_York:20250509T183000
DTEND;TZID=America/New_York:20250509T210000
DTSTAMP:20260425T062424
CREATED:20250415T210725Z
LAST-MODIFIED:20250415T211118Z
UID:803-1746815400-1746824400@deltaomegadelta.org
SUMMARY:Anchor and Pearl Soiree
DESCRIPTION:Celebrate 7 years of beautiful friendships. This is for all 2025-2026 members/sisters.\n\nWe ask that you join us in wearing all white. Dresses to jeans you be you. The white symbolizes unity in the building of friendships.\n\nPot luck dinner\, more details to come.\n\nRSVP on Facebook
URL:https://deltaomegadelta.org/event/anchor-and-pearl-soiree/
LOCATION:ME
ATTACH;FMTTYPE=image/png:https://deltaomegadelta.org/wp-content/uploads/2025/04/2025-05-06-anchor-pearl.png
END:VEVENT
BEGIN:VEVENT
DTSTART;TZID=America/New_York:20250517T080000
DTEND;TZID=America/New_York:20250517T170000
DTSTAMP:20260425T062424
CREATED:20250517T230530Z
LAST-MODIFIED:20250517T230714Z
UID:856-1747468800-1747501200@deltaomegadelta.org
SUMMARY:Happy to Volunteer After Hours @ Angel Tree/Christmas Castle
DESCRIPTION:Join us after work for an hour plus to offer a helping hand to the Angel Tree Program. We will be helping to pack and select Christmas toys for area families.\nAdult friends\, co workers\, and spouses welcome to join us.\nlocation will most likely be at the Augusta market place\nwe will talk details and make plans to order Pizza closer to date.\nDelta will bring salad and drinks\n\nRSVP for Happy to Volunteer After Hours @ Angel Tree/Christmas Castle
URL:https://deltaomegadelta.org/event/happy-to-volunteer-after-hours-angel-tree-christmas-castle/
LOCATION:ME
ATTACH;FMTTYPE=image/jpeg:https://deltaomegadelta.org/wp-content/uploads/2025/05/happy-to-volunteer.jpg
END:VEVENT
BEGIN:VEVENT
DTSTART;TZID=America/New_York:20250601T180000
DTEND;TZID=America/New_York:20250601T200000
DTSTAMP:20260425T062424
CREATED:20250517T222445Z
LAST-MODIFIED:20250517T222610Z
UID:815-1748800800-1748808000@deltaomegadelta.org
SUMMARY:Bowling for Summer Camp
DESCRIPTION:Partnering up with B.985 on June 1st (Sunday) for a night of bowling\, give aways and raffles to help raise money for the summer camp program through the Salvation Army. We are looking for any lady who wants to go bowling 6-8pm with us. the cost is $5 a person that includes your shoes. We have reserved a lane for 6 people and can add more lanes if interested. Bring your family or friends and support the efforts. Want to grab your own lane reach out to B98.5 or Salvation Army. All are welcome to Bowl. \nRSVP for Bowling for Summer Camp
URL:https://deltaomegadelta.org/event/bowling-for-summer-camp/
LOCATION:Interstate Bowling\, 215 Whitten Road\, Augusta\, ME\, 04347
ATTACH;FMTTYPE=image/jpeg:https://deltaomegadelta.org/wp-content/uploads/2025/05/2025-06-01-bowling-sm.jpg
END:VEVENT
BEGIN:VEVENT
DTSTART;TZID=America/New_York:20250613T190000
DTEND;TZID=America/New_York:20250613T210000
DTSTAMP:20260425T062424
CREATED:20250517T222915Z
LAST-MODIFIED:20250517T231749Z
UID:821-1749841200-1749848400@deltaomegadelta.org
SUMMARY:Sisterhood Experience @ Organic Farm
DESCRIPTION:Sisterhood program members.\n\nJoin our host Sheila as she shares her knowledge and her son’s vegetable  farm with us. A fun activity is also being planned to create for a fun experience.\n\nThis is for those participating at the pearl membership level.\n\nRSVP for this Sisterhood Experience @ Organic Farm
URL:https://deltaomegadelta.org/event/sisterhood-experience-organic-farm/
LOCATION:ME
ATTACH;FMTTYPE=image/jpeg:https://deltaomegadelta.org/wp-content/uploads/2025/05/2025-06-13-organic-farm.jpg
END:VEVENT
BEGIN:VEVENT
DTSTART;TZID=America/New_York:20250616T171500
DTEND;TZID=America/New_York:20250616T183000
DTSTAMP:20260425T062424
CREATED:20250517T223416Z
LAST-MODIFIED:20250517T231926Z
UID:824-1750094100-1750098600@deltaomegadelta.org
SUMMARY:Happy to Volunteer After Hours @ Teen Center
DESCRIPTION:Join us after work for an hour to offer a helping hand to the Augusta Teen Center. We will be given more details closer to the date.\nLet’s do dinner on Water Street after.\n\nRSVP for Happy to Volunteer After Hours @ Teen Center.
URL:https://deltaomegadelta.org/event/happy-to-volunteer-after-hours-teen-center/
LOCATION:Augusta Teen Center\, 244 Water Street\, Augusta\, ME\, 04330
ATTACH;FMTTYPE=image/jpeg:https://deltaomegadelta.org/wp-content/uploads/2025/05/happy-to-volunteer.jpg
END:VEVENT
BEGIN:VEVENT
DTSTART;TZID=America/New_York:20250625T183000
DTEND;TZID=America/New_York:20250625T203000
DTSTAMP:20260425T062424
CREATED:20250517T223834Z
LAST-MODIFIED:20250517T223834Z
UID:829-1750876200-1750883400@deltaomegadelta.org
SUMMARY:Social Night Out-Pickle Ball and Lawn Games
DESCRIPTION:Pickle ball and lawn games at the courts near the ball fields.\nShort walk to fielders choice for those wanting ice cream.\nLet’s learn together!\n\nRSVP for Social Night Out-Pickle Ball and Lawn Games.
URL:https://deltaomegadelta.org/event/social-night-out-pickle-ball-and-lawn-games/
LOCATION:Manchester Elementary School\, 17 School Street\, Manchester\, ME\, 04351
ATTACH;FMTTYPE=image/jpeg:https://deltaomegadelta.org/wp-content/uploads/2025/05/2025-06-25-social-night.jpg
END:VEVENT
BEGIN:VEVENT
DTSTART;TZID=America/New_York:20250711T190000
DTEND;TZID=America/New_York:20250711T203000
DTSTAMP:20260425T062424
CREATED:20250517T224030Z
LAST-MODIFIED:20250517T231645Z
UID:833-1752260400-1752265800@deltaomegadelta.org
SUMMARY:Social Night Out Music at Gardiner Waterfront
DESCRIPTION:Music in the fresh air with friends. A meet up location will be selected closed to date.\nMusic starts at 6 so we might 2 two meet up times.\nIn case of rain we can grab dinner at the depot\n\nRSVP for Social Night Out Music at Gardiner Waterfront
URL:https://deltaomegadelta.org/event/social-night-out-music-at-gardiner-waterfront/
LOCATION:ME
ATTACH;FMTTYPE=image/jpeg:https://deltaomegadelta.org/wp-content/uploads/2025/05/2025-06-25-social-night.jpg
END:VEVENT
BEGIN:VEVENT
DTSTART;TZID=America/New_York:20250723T180000
DTEND;TZID=America/New_York:20250723T210000
DTSTAMP:20260425T062424
CREATED:20250517T224626Z
LAST-MODIFIED:20250517T230048Z
UID:835-1753293600-1753304400@deltaomegadelta.org
SUMMARY:Anchor Drop-Summer-Camp Belong
DESCRIPTION:Follow us to Neverland……and bring your child like heart. Adult Guest are welcome \, ladies of course.\nWe will post a wish list of items needed to fill buckets of fun for each cabin.\nCamp belong allows siblings separated by foster care or adoption to reunite for a week.\n\nRSVP for Anchor Drop-Summer-Camp Belong.
URL:https://deltaomegadelta.org/event/anchor-drop-summer-camp-belong/
LOCATION:Readfield Beach\, Readfield\, ME
ATTACH;FMTTYPE=image/png:https://deltaomegadelta.org/wp-content/uploads/2025/05/anchor-drop.png
END:VEVENT
BEGIN:VEVENT
DTSTART;TZID=America/New_York:20250823T180000
DTEND;TZID=America/New_York:20250823T220000
DTSTAMP:20260425T062424
CREATED:20250517T225020Z
LAST-MODIFIED:20250517T225020Z
UID:839-1755972000-1755986400@deltaomegadelta.org
SUMMARY:Delta Doubles- Summer @ Sea Dogs Baseball Game
DESCRIPTION:Get your plus one and let’s head to the ballpark for a summer game.\nMore details to come on how to purchase tickets. let us know if wanting to come and we can decide where we want to sit. tickets start at $17 for a reserved seat\nCarpooling options\, reserved seats\, and new friendships\nTake me out to the ball game buy me some peanuts and cracker jackets I don’t care if I never get back….\n\nRSVP for Delta Doubles- Summer @ Sea Dogs Baseball Game
URL:https://deltaomegadelta.org/event/delta-doubles-summer-sea-dogs-baseball-game/
LOCATION:Portland Sea Dogs\, 271 Park Avenue\, Portland\, ME
ATTACH;FMTTYPE=image/jpeg:https://deltaomegadelta.org/wp-content/uploads/2025/05/2025-08-23-baseball.jpg
END:VEVENT
BEGIN:VEVENT
DTSTART;TZID=America/New_York:20250912T190000
DTEND;TZID=America/New_York:20250912T210000
DTSTAMP:20260425T062424
CREATED:20250517T225148Z
LAST-MODIFIED:20250517T231523Z
UID:843-1757703600-1757710800@deltaomegadelta.org
SUMMARY:Sisterhood Experience Bonfire & S’Mores
DESCRIPTION:Members of the sisterhood program enjoy a cozy night around a bonfire.\nLocation and host information to come\nGentle reminder that this event is for the Pearl membership level\n\nRSVP for Sisterhood Experience Bonfire & S’Mores
URL:https://deltaomegadelta.org/event/sisterhood-experience-bonfire-smores/
LOCATION:ME
ATTACH;FMTTYPE=image/jpeg:https://deltaomegadelta.org/wp-content/uploads/2025/05/2025-06-13-organic-farm.jpg
END:VEVENT
BEGIN:VEVENT
DTSTART;TZID=America/New_York:20250915T173000
DTEND;TZID=America/New_York:20250915T183000
DTSTAMP:20260425T062424
CREATED:20250517T225400Z
LAST-MODIFIED:20250517T231903Z
UID:845-1757957400-1757961000@deltaomegadelta.org
SUMMARY:Happy to Volunteer After Hours @ Family Violence Project
DESCRIPTION:Join us after work for an hour to offer a helping hand to the Family Violence Project. This will be at their office. We will be given more details closer to date.\nLet’s do dinner after.\n\nRSVP for Happy to Volunteer After Hours @ Family Violence Project.
URL:https://deltaomegadelta.org/event/happy-to-volunteer-after-hours-family-violence-project/
LOCATION:ME
ATTACH;FMTTYPE=image/jpeg:https://deltaomegadelta.org/wp-content/uploads/2025/05/happy-to-volunteer.jpg
END:VEVENT
BEGIN:VEVENT
DTSTART;TZID=America/New_York:20251010T190000
DTEND;TZID=America/New_York:20251010T210000
DTSTAMP:20260425T062424
CREATED:20250517T225634Z
LAST-MODIFIED:20250517T225634Z
UID:847-1760122800-1760130000@deltaomegadelta.org
SUMMARY:Social Night Out Pumpkin Painting
DESCRIPTION:Mini pumpkin painting\, bonfire and try some disc golf.\nThey often have a food truck and plenty of ciders to try.\n\nRSVP for Social Night Out Pumpkin Painting
URL:https://deltaomegadelta.org/event/social-night-out-pumpkin-painting/
LOCATION:Absolum Cider\, 799 Winthrop Center Road\, Winthrop\, Maine\, 04364
ATTACH;FMTTYPE=image/jpeg:https://deltaomegadelta.org/wp-content/uploads/2025/05/2025-06-25-social-night.jpg
END:VEVENT
BEGIN:VEVENT
DTSTART;TZID=America/New_York:20251022T183000
DTEND;TZID=America/New_York:20251022T203000
DTSTAMP:20260425T062424
CREATED:20250517T230014Z
LAST-MODIFIED:20250517T231334Z
UID:849-1761157800-1761165000@deltaomegadelta.org
SUMMARY:Anchor Drop - Fall
DESCRIPTION:This will be a members-only night with project to assist the unhoused/displaced. \n  \nRSVP for Anchor Drop – Fall
URL:https://deltaomegadelta.org/event/anchor-drop-fall/
LOCATION:Buker Community Center\, 22 Armory Street\, Augusta\, ME
ATTACH;FMTTYPE=image/png:https://deltaomegadelta.org/wp-content/uploads/2025/05/anchor-drop.png
END:VEVENT
BEGIN:VEVENT
DTSTART;TZID=America/New_York:20251114T190000
DTEND;TZID=America/New_York:20251114T210000
DTSTAMP:20260425T062424
CREATED:20250517T230213Z
LAST-MODIFIED:20251019T210857Z
UID:852-1763146800-1763154000@deltaomegadelta.org
SUMMARY:Delta Doubles- Fall @ TBD
DESCRIPTION:Get your plus one and let’s head out on an experience. More details to come\, so save the date.\nCarpooling options\, reserved seats\, and new friendships.\n 
URL:https://deltaomegadelta.org/event/delta-doubles-fall-tbd/
LOCATION:ME
ATTACH;FMTTYPE=image/jpeg:https://deltaomegadelta.org/wp-content/uploads/2025/05/2025-08-23-baseball.jpg
END:VEVENT
BEGIN:VEVENT
DTSTART;TZID=America/New_York:20251212T190000
DTEND;TZID=America/New_York:20251212T210000
DTSTAMP:20260425T062424
CREATED:20250517T230408Z
LAST-MODIFIED:20250517T230408Z
UID:854-1765566000-1765573200@deltaomegadelta.org
SUMMARY:Sisterhood Experience Holiday Centerpieces
DESCRIPTION:Sisterhood program members will enjoy a night of centerpiece-making and holiday treats\nSister host neededLocation and details to come closer to event\nGentle reminder this experience is for the Anchor membership level\n\nRSVP for Sisterhood Experience Holiday Centerpieces
URL:https://deltaomegadelta.org/event/sisterhood-experience-holiday-centerpieces/
LOCATION:ME
ATTACH;FMTTYPE=image/jpeg:https://deltaomegadelta.org/wp-content/uploads/2025/05/2025-06-13-organic-farm.jpg
END:VEVENT
BEGIN:VEVENT
DTSTART;TZID=America/New_York:20251215T170000
DTEND;TZID=America/New_York:20251215T183000
DTSTAMP:20260425T062424
CREATED:20251019T211239Z
LAST-MODIFIED:20251019T211315Z
UID:942-1765818000-1765823400@deltaomegadelta.org
SUMMARY:Happy to Volunteer After Hours @ Angel Tree/Christmas Castle
DESCRIPTION:Join us after work for an hour plus to offer a helping hand to the Angel Tree Program. We will be helping to pack and select Christmas toys for area families.\nAdult friends\, coworkers\, and spouses are welcome to join us.\nLocation will most likely be at the Augusta marketplace.\nWe will talk details and make plans to order Pizza closer to the date.\nDelta will bring salad and drinks
URL:https://deltaomegadelta.org/event/happy-to-volunteer-after-hours-angel-tree-christmas-castle-2/
LOCATION:ME
ATTACH;FMTTYPE=image/jpeg:https://deltaomegadelta.org/wp-content/uploads/2025/05/happy-to-volunteer.jpg
END:VEVENT
BEGIN:VEVENT
DTSTART;TZID=America/New_York:20260109T180000
DTEND;TZID=America/New_York:20260109T200000
DTSTAMP:20260425T062424
CREATED:20251229T230508Z
LAST-MODIFIED:20251229T230508Z
UID:949-1767981600-1767988800@deltaomegadelta.org
SUMMARY:Social night- Brickyard Hollow
DESCRIPTION:Located in the old chipotle location up near Bath and Body but on other side of parking lot. This is a casual time to connect and enjoy a craft beer and dinner. No end time so sit enjoy each other company or split off to do returns or shop sales.\n\nThe night is about getting out and building friendships.  If you have empty wrapping paper tubes bring them.
URL:https://deltaomegadelta.org/event/social-night-brickyard-hollow/
LOCATION:Brickyard Hollow\, 197 Civic Center Drive\, Augusta\, ME\, 04330
ATTACH;FMTTYPE=image/jpeg:https://deltaomegadelta.org/wp-content/uploads/2025/05/2025-06-25-social-night.jpg
END:VEVENT
BEGIN:VEVENT
DTSTART;TZID=America/New_York:20260128T180000
DTEND;TZID=America/New_York:20260128T200000
DTSTAMP:20260425T062424
CREATED:20250517T230900Z
LAST-MODIFIED:20260114T231322Z
UID:860-1769623200-1769630400@deltaomegadelta.org
SUMMARY:Anchor Drop - Winter
DESCRIPTION:Tackling a fun watch party set up for the Veteran Home. Help us be party planners and pack a care package to be delivered the week before the Super Bowl Feb 8th\n\nWe have balloons\, napkins\, a table cloth and hotdog boxes. We need snacks\, sodas\, and other creative items\, and themed plates\, cups\, and silverware.\n\nThe staff at the veterans home will put to use what we send and add to it to make a fun night for all.\n\nSince not a lot of time is needed packing our care package the game of the night will be UNO and a salad and soup will be available (please consider donating a few dollars if grabbing dinner this will allow us to continue to provide members with a meal making it easier to come straight from work on nights like this)\n\n\n\nRSVP for Anchor Drop – Winter
URL:https://deltaomegadelta.org/event/anchor-drop-winter/
LOCATION:11 Parkwood Drive Augusta Maine\, 11 Parkwood Drive\, Augusta\, Maine\, 04351
ATTACH;FMTTYPE=image/png:https://deltaomegadelta.org/wp-content/uploads/2025/05/anchor-drop.png
END:VEVENT
BEGIN:VEVENT
DTSTART;TZID=America/New_York:20260213T190000
DTEND;TZID=America/New_York:20260213T210000
DTSTAMP:20260425T062424
CREATED:20260114T231050Z
LAST-MODIFIED:20260121T005550Z
UID:959-1771009200-1771016400@deltaomegadelta.org
SUMMARY:Par-Tee with Purpose
DESCRIPTION:Teams of 4 build a hole using donations for the non-profit of their choice. 30-minute setup and prizes for the best hole. All golfers will be able to play the course made that night. Snack and drinks served. $10 per non-member or join all the fun during sping Rush for $25. Don’t have a team but want to play we have open spots. \n\n\n\nPar-Tee with Purpose \n$10.00 \nPay now \n\n\n \n\n \n\nSpring Rush \n$25.00 \n    Pay now
URL:https://deltaomegadelta.org/event/par-tee-with-purpose/
LOCATION:Viles Arboretum\, 71 Stone Street\, Augusta\, Maine
ATTACH;FMTTYPE=image/png:https://deltaomegadelta.org/wp-content/uploads/2026/01/2026-02-13-par-tee.png
END:VEVENT
BEGIN:VEVENT
DTSTART;TZID=America/New_York:20260221T090000
DTEND;TZID=America/New_York:20260221T090000
DTSTAMP:20260425T062424
CREATED:20251229T231154Z
LAST-MODIFIED:20260114T231402Z
UID:953-1771664400-1771664400@deltaomegadelta.org
SUMMARY:Thrift Shop Crawl...Road Tripping
DESCRIPTION:Meet up at Goodwill in Augusta and leave our cars as we carpool to a few local thrift stores. Treasure hunting and girl time a perfect pairing for the day.
URL:https://deltaomegadelta.org/event/thrift-shop-crawl-road-tripping/
LOCATION:Goodwill\, 5 Senator Way\, Augusta\, ME\, 04330
ATTACH;FMTTYPE=image/jpeg:https://deltaomegadelta.org/wp-content/uploads/2025/12/thrift-shop.jpg
END:VEVENT
BEGIN:VEVENT
DTSTART;TZID=America/New_York:20260302T170000
DTEND;TZID=America/New_York:20260302T180000
DTSTAMP:20260425T062424
CREATED:20260131T234641Z
LAST-MODIFIED:20260131T234710Z
UID:969-1772470800-1772474400@deltaomegadelta.org
SUMMARY:HAPPY to Volunteer HOUR
DESCRIPTION:Ladies\, come see how doing a small thing can create a large ripple.\nWe will be assisting with a few projects.\nSnacks are provided\nFun is sure to happen.\nThis was the most talked about onsite project we did in 2025!\nDelta is all about doing small acts of kindness\, and we want to show you how your time can be impactful and allow you to make new friends.\nA $5 donation would help us provide flowers for this project\, as well as provide you with a Volunteer badge and lanyard
URL:https://deltaomegadelta.org/event/happy-to-volunteer-hour/
LOCATION:83 Western Ave\, Augusta\, ME\, 83 Western Ave\, Augusta\, ME
ATTACH;FMTTYPE=image/png:https://deltaomegadelta.org/wp-content/uploads/2026/01/2026-03-02.png
END:VEVENT
BEGIN:VEVENT
DTSTART;TZID=America/New_York:20260316T180000
DTEND;TZID=America/New_York:20260316T200000
DTSTAMP:20260425T062424
CREATED:20260316T192841Z
LAST-MODIFIED:20260316T192841Z
UID:1045-1773684000-1773691200@deltaomegadelta.org
SUMMARY:Sister Night Night with Sara\, Sheila and Tamara
DESCRIPTION:A night of Serenity. Come learn some self-soothing techniques. We will move your body gently\, so come dressed comfortably\, or bring a change of clothes if you need one.\n\nMore details to come
URL:https://deltaomegadelta.org/event/sister-night-night-with-sara-sheila-and-tamara/
LOCATION:Kennebec Historical Society\, 1 N. Chestnut Street\, Augusta\, Maine\, 04330
ATTACH;FMTTYPE=image/jpeg:https://deltaomegadelta.org/wp-content/uploads/2026/03/2026-11-03.jpg
END:VEVENT
BEGIN:VEVENT
DTSTART;TZID=America/New_York:20260319T183000
DTEND;TZID=America/New_York:20260319T203000
DTSTAMP:20260425T062424
CREATED:20260131T234940Z
LAST-MODIFIED:20260311T204917Z
UID:974-1773945000-1773952200@deltaomegadelta.org
SUMMARY:Delta Fair-Annual Open House
DESCRIPTION:Curious? Did you know Delta Omega Delta has been around for 8 years? Let us entertain you for the night and allow you to experience all Delta has to offer.\nfood\ngames\nraffles\nand a tea towel\, paint printing station\nWe make meeting new friends easy.\nThis is a women’s group like no other! A sisterhood of women from the greater Augusta area. We have nothing to do with academics. We leave politics and religion out of our gatherings and focus on building friendships and doing small things to impact our communities. Some describe us as Girl Scouts with wine. \n\n\n\nDelta Omega Delta \n$5.00 \nPay now \n\n 
URL:https://deltaomegadelta.org/event/delta-fair-annual-open-house/
LOCATION:Masonic Lodge\, 321 Water Street\, Augusta\, Maine\, 04330
ATTACH;FMTTYPE=image/png:https://deltaomegadelta.org/wp-content/uploads/2026/01/2026-03-19.png
END:VEVENT
BEGIN:VEVENT
DTSTART;TZID=America/New_York:20260407T180000
DTEND;TZID=America/New_York:20260407T200000
DTSTAMP:20260425T062424
CREATED:20260311T202043Z
LAST-MODIFIED:20260311T202151Z
UID:982-1775584800-1775592000@deltaomegadelta.org
SUMMARY:Social Night
DESCRIPTION:April is the start of a new sorority year. This is the last event open to visitors who are considering membership.\nWe have some great raffle items. Tickets are being sold to raise money for materials for the Birthday kits being built at the Welcome party on April 16. $5 for 10 tickets\, and you will place the ticket in the container of item choices.\nRenewals can be made on this date as well as new memberships
URL:https://deltaomegadelta.org/event/social-night/
LOCATION:Burano’s Wood-Fired Pizzeria in Hallowell\, 192 Water Street\, Hallowell\, ME
ATTACH;FMTTYPE=image/jpeg:https://deltaomegadelta.org/wp-content/uploads/2026/03/2026-04-07.jpg
END:VEVENT
BEGIN:VEVENT
DTSTART;TZID=America/New_York:20260411T093000
DTEND;TZID=America/New_York:20260411T130000
DTSTAMP:20260425T062424
CREATED:20260311T202859Z
LAST-MODIFIED:20260311T202929Z
UID:988-1775899800-1775912400@deltaomegadelta.org
SUMMARY:Leadership Workday Retreat
DESCRIPTION:This is for those committed to serving on the leadership team for 2026-2027. \nThis event will be held in Readfield.
URL:https://deltaomegadelta.org/event/leadership-workday-retreat/
LOCATION:ME
ATTACH;FMTTYPE=image/png:https://deltaomegadelta.org/wp-content/uploads/2026/03/2026-04-11.png
END:VEVENT
BEGIN:VEVENT
DTSTART;TZID=America/New_York:20260416T180000
DTEND;TZID=America/New_York:20260416T200000
DTSTAMP:20260425T062424
CREATED:20260311T203215Z
LAST-MODIFIED:20260415T214019Z
UID:992-1776362400-1776369600@deltaomegadelta.org
SUMMARY:Sunshine Project / Welcome Party
DESCRIPTION:The launch of a new year! Come find out why we are all sunshine and smiles this year. Celebrate the addition of new friends while enjoying a light dinner. Receive your new 2026 swag\, and hear about all the fun to come and the ripples to be made.\n\nThe first sunshine project of the year is the building of birthday kits. Take a look at the additional information in the events discussion.
URL:https://deltaomegadelta.org/event/sunshine-project-welcome-party/
LOCATION:Buker Community Center\, 22 Armory Street\, Augusta\, ME
ATTACH;FMTTYPE=image/jpeg:https://deltaomegadelta.org/wp-content/uploads/2026/03/2026-04-16.jpg
END:VEVENT
BEGIN:VEVENT
DTSTART;TZID=America/New_York:20260505T180000
DTEND;TZID=America/New_York:20260505T200000
DTSTAMP:20260425T062424
CREATED:20260311T203503Z
LAST-MODIFIED:20260311T203503Z
UID:995-1778004000-1778011200@deltaomegadelta.org
SUMMARY:Sisterhood Night with Stacey
DESCRIPTION:Scrapbooking project\, more information to come.
URL:https://deltaomegadelta.org/event/sisterhood-night-with-stacey/
LOCATION:ME
ATTACH;FMTTYPE=image/jpeg:https://deltaomegadelta.org/wp-content/uploads/2026/03/2026-05-05.jpg
END:VEVENT
BEGIN:VEVENT
DTSTART;TZID=America/New_York:20260513T180000
DTEND;TZID=America/New_York:20260513T200000
DTSTAMP:20260425T062424
CREATED:20260311T203715Z
LAST-MODIFIED:20260407T221821Z
UID:998-1778695200-1778702400@deltaomegadelta.org
SUMMARY:New Members Night
DESCRIPTION:This is for new members and those members going through sister initiation in August.\nNew members should bring a stem of small pastel fake flowers for a project.
URL:https://deltaomegadelta.org/event/new-members-night/
LOCATION:The Woodshed at Kennebec Cabin Company\, 911 Western Avenue\, Manchester\, Maine\, 04351
ATTACH;FMTTYPE=image/jpeg:https://deltaomegadelta.org/wp-content/uploads/2026/03/2026-05-13.jpg
END:VEVENT
BEGIN:VEVENT
DTSTART;TZID=America/New_York:20260521T180000
DTEND;TZID=America/New_York:20260521T200000
DTSTAMP:20260425T062424
CREATED:20260311T203958Z
LAST-MODIFIED:20260311T204444Z
UID:1002-1779386400-1779393600@deltaomegadelta.org
SUMMARY:Delta Derby-Party on Purpose
DESCRIPTION:Big hats\, sundresses\, and horse racing games. This is a night to recognize all the volunteer work by Delta members. Be encouraged and learn more about the many organizations that have grabbed the hearts of our sisters.\n\nAppetizers and dinner will be served. Closer to date\, a menu option will be posted for pre-order.\n\nAwards for Best Hat and Best Dress will be given out\, as well as volunteering awards/charms.\n\nNot feeling up to a sundress…..don’t let that be the obstacle to keep you from the fun. It’s your seat so please do you. A floral top or even a pastel shirt can work just as well. You do you.\n\nIf you have volunteered in the last sorority year\, April 2025 to April 2026\, please let Sheila know where so she can build our list.
URL:https://deltaomegadelta.org/event/delta-derby-party-on-purpose/
LOCATION:Kennebec Historical Society\, 1 N. Chestnut Street\, Augusta\, Maine\, 04330
ATTACH;FMTTYPE=image/jpeg:https://deltaomegadelta.org/wp-content/uploads/2026/03/2026-05-21.jpg
END:VEVENT
BEGIN:VEVENT
DTSTART;TZID=America/New_York:20260602T180000
DTEND;TZID=America/New_York:20260602T200000
DTSTAMP:20260425T062424
CREATED:20260311T204321Z
LAST-MODIFIED:20260415T214236Z
UID:1005-1780423200-1780430400@deltaomegadelta.org
SUMMARY:Sunshine Project - Unhoused Kits
DESCRIPTION:We will start the night with kit building for the unhouse.  Snacks and watermelon will be served.  Interested in pre-ordering food. The menu will be posted closer to date\, and the cost will be $5.\n\nOrzy Office suites (Historical Building main entrance) . Plenty of parking in the lot.\n\nWish list will be posted at the end of April. These kits will be given out by LINC services here in Augusta.\n\nTo end the night\, we have a few fun target games and right\, left\, center. Watermelon theme prizes. More details to come.\n\nYour guests are welcome\, we just ask that you include them in our head count by posting their names. We will have a name tag waiting. Please share the wish list with them once available.
URL:https://deltaomegadelta.org/event/sunshine-project-unhoused-kits/
LOCATION:11 Parkwood Drive Augusta Maine\, 11 Parkwood Drive\, Augusta\, Maine\, 04351
ATTACH;FMTTYPE=image/jpeg:https://deltaomegadelta.org/wp-content/uploads/2026/03/2026-06-02.jpg
END:VEVENT
END:VCALENDAR