BEGIN:VCALENDAR
VERSION:2.0
PRODID:-//Delta Omega Delta - ECPv6.15.20//NONSGML v1.0//EN
CALSCALE:GREGORIAN
METHOD:PUBLISH
X-ORIGINAL-URL:https://deltaomegadelta.org
X-WR-CALDESC:Events for Delta Omega Delta
REFRESH-INTERVAL;VALUE=DURATION:PT1H
X-Robots-Tag:noindex
X-PUBLISHED-TTL:PT1H
BEGIN:VTIMEZONE
TZID:America/New_York
BEGIN:DAYLIGHT
TZOFFSETFROM:-0500
TZOFFSETTO:-0400
TZNAME:EDT
DTSTART:20250309T070000
END:DAYLIGHT
BEGIN:STANDARD
TZOFFSETFROM:-0400
TZOFFSETTO:-0500
TZNAME:EST
DTSTART:20251102T060000
END:STANDARD
BEGIN:DAYLIGHT
TZOFFSETFROM:-0500
TZOFFSETTO:-0400
TZNAME:EDT
DTSTART:20260308T070000
END:DAYLIGHT
BEGIN:STANDARD
TZOFFSETFROM:-0400
TZOFFSETTO:-0500
TZNAME:EST
DTSTART:20261101T060000
END:STANDARD
BEGIN:DAYLIGHT
TZOFFSETFROM:-0500
TZOFFSETTO:-0400
TZNAME:EDT
DTSTART:20270314T070000
END:DAYLIGHT
BEGIN:STANDARD
TZOFFSETFROM:-0400
TZOFFSETTO:-0500
TZNAME:EST
DTSTART:20271107T060000
END:STANDARD
BEGIN:DAYLIGHT
TZOFFSETFROM:-0500
TZOFFSETTO:-0400
TZNAME:EDT
DTSTART:20280312T070000
END:DAYLIGHT
BEGIN:STANDARD
TZOFFSETFROM:-0400
TZOFFSETTO:-0500
TZNAME:EST
DTSTART:20281105T060000
END:STANDARD
END:VTIMEZONE
BEGIN:VEVENT
DTSTART;TZID=America/New_York:20261208T180000
DTEND;TZID=America/New_York:20261208T200000
DTSTAMP:20260425T062506
CREATED:20260316T193356Z
LAST-MODIFIED:20260316T193356Z
UID:1051-1796752800-1796760000@deltaomegadelta.org
SUMMARY:Sisterhood Night with Lisa J.
DESCRIPTION:Come join Lisa J. at one of her favorite places during the holidays. A place to make Christmas wishes come true.\nDinner will be provided and available around 5:30. The plan is to sit down and have dinner together\, then volunteer on-site at the castle.\n\nMore details will be added closer to the event.
URL:https://deltaomegadelta.org/event/sisterhood-night-with-lisa-j/
ATTACH;FMTTYPE=image/jpeg:https://deltaomegadelta.org/wp-content/uploads/2026/03/2026-12-08.jpg
END:VEVENT
BEGIN:VEVENT
DTSTART;TZID=America/New_York:20261218T190000
DTEND;TZID=America/New_York:20261218T210000
DTSTAMP:20260425T062506
CREATED:20260316T193547Z
LAST-MODIFIED:20260316T193547Z
UID:1054-1797620400-1797627600@deltaomegadelta.org
SUMMARY:Social Night- Hearthside Vine &Tap
DESCRIPTION:Ladies we have more information to come after the retreat. A mystery is in the making…
URL:https://deltaomegadelta.org/event/social-night-hearthside-vine-tap/
ATTACH;FMTTYPE=image/jpeg:https://deltaomegadelta.org/wp-content/uploads/2026/03/2026-12-18.jpg
END:VEVENT
BEGIN:VEVENT
DTSTART;TZID=America/New_York:20270105T180000
DTEND;TZID=America/New_York:20270105T200000
DTSTAMP:20260425T062506
CREATED:20260316T194046Z
LAST-MODIFIED:20260418T170225Z
UID:1057-1799172000-1799179200@deltaomegadelta.org
SUMMARY:Sunshine Project - Sunshine Cart
DESCRIPTION:We will start the night by assembling a sunshine cart for the Augusta school staff.  Snacks and water will be served.   Interested in pre-ordering food? The menu will be a taco bar and a margarita.\nTo date\, and the cost will be a $5 meal and a $1 margarita.\n\nOrzy Office suites (Historical Building main entrance). Plenty of parking in the lot.\n\nWish list will be posted at the end of April. These items will be given out at the school here in Augusta.\n\nTo end the night\, we have a fun dad joke competition. More details to come.  Your guests are welcome\, we just ask that you include them in our Dad joke competition\, and if they want to purchase a meal\, please give them details.
URL:https://deltaomegadelta.org/event/sunshine-project-sunshine-cart/
LOCATION:11 Parkwood Drive Augusta Maine\, 11 Parkwood Drive\, Augusta\, Maine\, 04351
ATTACH;FMTTYPE=image/jpeg:https://deltaomegadelta.org/wp-content/uploads/2026/03/2027-01-05-v2.jpg
END:VEVENT
BEGIN:VEVENT
DTSTART;TZID=America/New_York:20270121T171500
DTEND;TZID=America/New_York:20270121T183000
DTSTAMP:20260425T062506
CREATED:20260316T194406Z
LAST-MODIFIED:20260418T170310Z
UID:1060-1800551700-1800556200@deltaomegadelta.org
SUMMARY:Community Service Night @ Maine Recovery Access
DESCRIPTION:Be part of the ripple effect! Join us on-site with the Maine Recovery Access Project for a hands-on\, transformative experience. Help create waves of lasting change.\n\nMore details about this Community Service project will be added closer to the date.
URL:https://deltaomegadelta.org/event/community-service-night-maine-recovery-access/
LOCATION:Maine Recovery Access Project\, 47 Water Street\, Augusta\, ME
ATTACH;FMTTYPE=image/jpeg:https://deltaomegadelta.org/wp-content/uploads/2026/03/2027-01-21.jpg
END:VEVENT
BEGIN:VEVENT
DTSTART;TZID=America/New_York:20270202T180000
DTEND;TZID=America/New_York:20270202T203000
DTSTAMP:20260425T062506
CREATED:20260316T194605Z
LAST-MODIFIED:20260418T170346Z
UID:1064-1801591200-1801600200@deltaomegadelta.org
SUMMARY:Social Night-Trivia
DESCRIPTION:Ladies’ night out. Grab food at 6pm\, and trivia starts at 6:30.\n\nWe would love to sit together\, so please RSVP. Team sizes are a maximum of 8 so if we need to\, we will break up into 2 tables.\nno cost to play
URL:https://deltaomegadelta.org/event/social-night-trivia-2/
LOCATION:Buck’s Naked BBQ\, 252 Water Street\, Gardiner\, Me
ATTACH;FMTTYPE=image/jpeg:https://deltaomegadelta.org/wp-content/uploads/2026/03/2027-02-02.jpg
END:VEVENT
BEGIN:VEVENT
DTSTART;TZID=America/New_York:20270219T190000
DTEND;TZID=America/New_York:20270219T220000
DTSTAMP:20260425T062506
CREATED:20260316T194818Z
LAST-MODIFIED:20260316T194818Z
UID:1067-1803063600-1803074400@deltaomegadelta.org
SUMMARY:Delta Open House
DESCRIPTION:Bring your Friends to Athens and enjoy a ladies’ night! Greek and Mediterranean food samplings\, rich olive oils\, and fun. Delta Omega Delta is no Greek Myth; we are a sorority and sisterhood like no other. We are seeking other ladies who desire real friendships and have a heart for doing small things in such a way that it inspires and awakens the hearts of others.\n\nOur activity for the night is to flavor your own olive oil to take home; a supply fee will be charged.\n\nWhen we say toga\, we mean grab a sheet and tie a knot\, and when we say tiara\, we mean go ahead and go all Greek goddess on us. You do you at Delta\, but please come.\n\nMore details will be shared closer to the event.
URL:https://deltaomegadelta.org/event/delta-open-house/
ATTACH;FMTTYPE=image/jpeg:https://deltaomegadelta.org/wp-content/uploads/2026/03/2027-02-19.jpg
END:VEVENT
END:VCALENDAR