BEGIN:VCALENDAR
VERSION:2.0
PRODID:-//Delta Omega Delta - ECPv6.15.20//NONSGML v1.0//EN
CALSCALE:GREGORIAN
METHOD:PUBLISH
X-WR-CALNAME:Delta Omega Delta
X-ORIGINAL-URL:https://deltaomegadelta.org
X-WR-CALDESC:Events for Delta Omega Delta
REFRESH-INTERVAL;VALUE=DURATION:PT1H
X-Robots-Tag:noindex
X-PUBLISHED-TTL:PT1H
BEGIN:VTIMEZONE
TZID:America/New_York
BEGIN:DAYLIGHT
TZOFFSETFROM:-0500
TZOFFSETTO:-0400
TZNAME:EDT
DTSTART:20230312T070000
END:DAYLIGHT
BEGIN:STANDARD
TZOFFSETFROM:-0400
TZOFFSETTO:-0500
TZNAME:EST
DTSTART:20231105T060000
END:STANDARD
BEGIN:DAYLIGHT
TZOFFSETFROM:-0500
TZOFFSETTO:-0400
TZNAME:EDT
DTSTART:20240310T070000
END:DAYLIGHT
BEGIN:STANDARD
TZOFFSETFROM:-0400
TZOFFSETTO:-0500
TZNAME:EST
DTSTART:20241103T060000
END:STANDARD
BEGIN:DAYLIGHT
TZOFFSETFROM:-0500
TZOFFSETTO:-0400
TZNAME:EDT
DTSTART:20250309T070000
END:DAYLIGHT
BEGIN:STANDARD
TZOFFSETFROM:-0400
TZOFFSETTO:-0500
TZNAME:EST
DTSTART:20251102T060000
END:STANDARD
END:VTIMEZONE
BEGIN:VEVENT
DTSTART;TZID=America/New_York:20240430T180000
DTEND;TZID=America/New_York:20240430T193000
DTSTAMP:20260424T233438
CREATED:20240325T131133Z
LAST-MODIFIED:20240325T133656Z
UID:424-1714500000-1714505400@deltaomegadelta.org
SUMMARY:Trivia at the Woodshed
DESCRIPTION:We are playing as a team and need your help. Visitors are welcome but please RSVP by Monday\, April 29 so we can grab enough tables. It’s our first time to the Cabin Master’s woodshed for trivia see ya there. \nRSVP for Trivia at the Woodshed
URL:https://deltaomegadelta.org/event/trivia-at-the-woodshed/
LOCATION:The Woodshed at Kennebec Cabin Company\, 911 Western Avenue\, Manchester\, Maine\, 04351
ATTACH;FMTTYPE=image/jpeg:https://deltaomegadelta.org/wp-content/uploads/2024/03/Trivia-Night.jpg
END:VEVENT
BEGIN:VEVENT
DTSTART;TZID=America/New_York:20240424T173000
DTEND;TZID=America/New_York:20240424T190000
DTSTAMP:20260424T233438
CREATED:20240325T130801Z
LAST-MODIFIED:20240325T133319Z
UID:420-1713979800-1713985200@deltaomegadelta.org
SUMMARY:Rail Trail Walk and Talk
DESCRIPTION:Meet in the parking lot at the water. We will leave promptly at 5:45 and will head towards Augusta on the trail. Walk at your own pace. Anyone interested in doing dinner after please join a few of us. Friends are welcome. \nRSVP for Rail Trail Walk and Talk
URL:https://deltaomegadelta.org/event/rail-trail-walk-and-talk/
LOCATION:Rail Trail Parking Lot at the Water
ATTACH;FMTTYPE=image/png:https://deltaomegadelta.org/wp-content/uploads/2024/03/2024-04-24-Ladies-Walk.png
END:VEVENT
END:VCALENDAR