BEGIN:VCALENDAR
VERSION:2.0
PRODID:-//Delta Omega Delta - ECPv6.15.20//NONSGML v1.0//EN
CALSCALE:GREGORIAN
METHOD:PUBLISH
X-ORIGINAL-URL:https://deltaomegadelta.org
X-WR-CALDESC:Events for Delta Omega Delta
REFRESH-INTERVAL;VALUE=DURATION:PT1H
X-Robots-Tag:noindex
X-PUBLISHED-TTL:PT1H
BEGIN:VTIMEZONE
TZID:America/New_York
BEGIN:DAYLIGHT
TZOFFSETFROM:-0500
TZOFFSETTO:-0400
TZNAME:EDT
DTSTART:20240310T070000
END:DAYLIGHT
BEGIN:STANDARD
TZOFFSETFROM:-0400
TZOFFSETTO:-0500
TZNAME:EST
DTSTART:20241103T060000
END:STANDARD
BEGIN:DAYLIGHT
TZOFFSETFROM:-0500
TZOFFSETTO:-0400
TZNAME:EDT
DTSTART:20250309T070000
END:DAYLIGHT
BEGIN:STANDARD
TZOFFSETFROM:-0400
TZOFFSETTO:-0500
TZNAME:EST
DTSTART:20251102T060000
END:STANDARD
BEGIN:DAYLIGHT
TZOFFSETFROM:-0500
TZOFFSETTO:-0400
TZNAME:EDT
DTSTART:20260308T070000
END:DAYLIGHT
BEGIN:STANDARD
TZOFFSETFROM:-0400
TZOFFSETTO:-0500
TZNAME:EST
DTSTART:20261101T060000
END:STANDARD
END:VTIMEZONE
BEGIN:VEVENT
DTSTART;TZID=America/New_York:20250219T180000
DTEND;TZID=America/New_York:20250219T200000
DTSTAMP:20260424T232134
CREATED:20240929T154105Z
LAST-MODIFIED:20250124T222249Z
UID:660-1739988000-1739995200@deltaomegadelta.org
SUMMARY:Grannies' Night Out - Party with Purpose
DESCRIPTION:Ladies Game night. How old will you go ….. This is a fun night of game playing with tons of prizes to win. limited amount of tickets so do not delay. \n21 and older \nBYOB \nTickets $15\, Members $5.00 discount \nDelta never needs a reason to gather but when we do it is always for a purpose. Proceeds of the night go to warming kits for local organizations. \n\n \n\nGrannie’s Night \n$10.50 – $15.75 \nBuy now
URL:https://deltaomegadelta.org/event/grannies-night-out-party-with-purpose/
LOCATION:Viles Arboretum\, 71 Stone Street\, Augusta\, Maine
ATTACH;FMTTYPE=image/jpeg:https://deltaomegadelta.org/wp-content/uploads/2024/09/2024-11-15-grannie-night.jpg
END:VEVENT
END:VCALENDAR