BEGIN:VCALENDAR
VERSION:2.0
PRODID:-//Delta Omega Delta - ECPv6.15.20//NONSGML v1.0//EN
CALSCALE:GREGORIAN
METHOD:PUBLISH
X-WR-CALNAME:Delta Omega Delta
X-ORIGINAL-URL:https://deltaomegadelta.org
X-WR-CALDESC:Events for Delta Omega Delta
REFRESH-INTERVAL;VALUE=DURATION:PT1H
X-Robots-Tag:noindex
X-PUBLISHED-TTL:PT1H
BEGIN:VTIMEZONE
TZID:America/New_York
BEGIN:DAYLIGHT
TZOFFSETFROM:-0500
TZOFFSETTO:-0400
TZNAME:EDT
DTSTART:20240310T070000
END:DAYLIGHT
BEGIN:STANDARD
TZOFFSETFROM:-0400
TZOFFSETTO:-0500
TZNAME:EST
DTSTART:20241103T060000
END:STANDARD
BEGIN:DAYLIGHT
TZOFFSETFROM:-0500
TZOFFSETTO:-0400
TZNAME:EDT
DTSTART:20250309T070000
END:DAYLIGHT
BEGIN:STANDARD
TZOFFSETFROM:-0400
TZOFFSETTO:-0500
TZNAME:EST
DTSTART:20251102T060000
END:STANDARD
BEGIN:DAYLIGHT
TZOFFSETFROM:-0500
TZOFFSETTO:-0400
TZNAME:EDT
DTSTART:20260308T070000
END:DAYLIGHT
BEGIN:STANDARD
TZOFFSETFROM:-0400
TZOFFSETTO:-0500
TZNAME:EST
DTSTART:20261101T060000
END:STANDARD
END:VTIMEZONE
BEGIN:VEVENT
DTSTART;TZID=America/New_York:20250314T190000
DTEND;TZID=America/New_York:20250314T203000
DTSTAMP:20260423T012307
CREATED:20250305T005630Z
LAST-MODIFIED:20250305T012210Z
UID:750-1741978800-1741984200@deltaomegadelta.org
SUMMARY:The Not So Boring Annual Meeting
DESCRIPTION:A quick pat on our back for an amazing year. An account of the $checkbook. The vision and calendar  yup you’re reading this correctly for our new year. To keep this fun. \nThe fridge will have soda\, beer\, and seltzers. Snacks to share and paper flower making like you have never experienced before. We also have right\, left\, center\, and prizes. \nExtend the night out with the escape room just next door and Applebees late night  happy hour near by.
URL:https://deltaomegadelta.org/event/2025-annual-meeting/
LOCATION:The Orzy\, 11 Parkwood Drive\, Augusta\, Maine\, 04330
ATTACH;FMTTYPE=image/jpeg:https://deltaomegadelta.org/wp-content/uploads/2025/03/2025-03-14-annual-meeting.jpg
END:VEVENT
BEGIN:VEVENT
DTSTART;TZID=America/New_York:20250317T171500
DTEND;TZID=America/New_York:20250317T183000
DTSTAMP:20260423T012307
CREATED:20250305T010047Z
LAST-MODIFIED:20250305T011436Z
UID:756-1742231700-1742236200@deltaomegadelta.org
SUMMARY:Delta After Hours - Volunteer @ Arboretum
DESCRIPTION:Inside project for the educational program. Appleebee’s after for anyone wanting to grab some dinner together.
URL:https://deltaomegadelta.org/event/delta-after-hours-volunteer-arboretum/
LOCATION:Viles Arboretum\, 71 Stone Street\, Augusta\, Maine
ATTACH;FMTTYPE=image/jpeg:https://deltaomegadelta.org/wp-content/uploads/2025/03/2025-03-17-delta-after-hours.jpg
END:VEVENT
BEGIN:VEVENT
DTSTART;TZID=America/New_York:20250326T183000
DTEND;TZID=America/New_York:20250326T203000
DTSTAMP:20260423T012307
CREATED:20250305T010722Z
LAST-MODIFIED:20250321T170847Z
UID:758-1743013800-1743021000@deltaomegadelta.org
SUMMARY:Sip & See - Mini Craft Bar
DESCRIPTION:Members $5 gets you 2 mini craft projects that night. \nThis is a bring guest night. All ticket purchased with the button below. \nYou’re are welcome to attend and not do a mini craft. No need to purchase a ticket come hang out. \nNet proceeds for the night go to humane society so please Invite . . . invite . . . invite. \nDeadline for supplies:  March 19\, 2025 \nEveryone is welcome to join us any of these night but only paid ticket holders will be given supplies that night.
URL:https://deltaomegadelta.org/event/sip-see-mini-craft-bar/
LOCATION:Buker Community Center\, 22 Armory Street\, Augusta\, ME
ATTACH;FMTTYPE=image/jpeg:https://deltaomegadelta.org/wp-content/uploads/2025/03/2025-03-26-sip-and-see.jpg
END:VEVENT
END:VCALENDAR