BEGIN:VCALENDAR
VERSION:2.0
PRODID:-//Delta Omega Delta - ECPv6.15.20//NONSGML v1.0//EN
CALSCALE:GREGORIAN
METHOD:PUBLISH
X-WR-CALNAME:Delta Omega Delta
X-ORIGINAL-URL:https://deltaomegadelta.org
X-WR-CALDESC:Events for Delta Omega Delta
REFRESH-INTERVAL;VALUE=DURATION:PT1H
X-Robots-Tag:noindex
X-PUBLISHED-TTL:PT1H
BEGIN:VTIMEZONE
TZID:America/New_York
BEGIN:DAYLIGHT
TZOFFSETFROM:-0500
TZOFFSETTO:-0400
TZNAME:EDT
DTSTART:20240310T070000
END:DAYLIGHT
BEGIN:STANDARD
TZOFFSETFROM:-0400
TZOFFSETTO:-0500
TZNAME:EST
DTSTART:20241103T060000
END:STANDARD
BEGIN:DAYLIGHT
TZOFFSETFROM:-0500
TZOFFSETTO:-0400
TZNAME:EDT
DTSTART:20250309T070000
END:DAYLIGHT
BEGIN:STANDARD
TZOFFSETFROM:-0400
TZOFFSETTO:-0500
TZNAME:EST
DTSTART:20251102T060000
END:STANDARD
BEGIN:DAYLIGHT
TZOFFSETFROM:-0500
TZOFFSETTO:-0400
TZNAME:EDT
DTSTART:20260308T070000
END:DAYLIGHT
BEGIN:STANDARD
TZOFFSETFROM:-0400
TZOFFSETTO:-0500
TZNAME:EST
DTSTART:20261101T060000
END:STANDARD
END:VTIMEZONE
BEGIN:VEVENT
DTSTART;TZID=America/New_York:20250411T190000
DTEND;TZID=America/New_York:20250411T210000
DTSTAMP:20260423T013607
CREATED:20250305T011126Z
LAST-MODIFIED:20250405T132526Z
UID:760-1744398000-1744405200@deltaomegadelta.org
SUMMARY:Sip & See - Birdhouses
DESCRIPTION:The $10 supply fee is for the wooden birdhouse and paints \nDelta will have ice tea and water as well as a few snacks. BYOB and if you can bring a snack to share that would be awesome. We want to impress our visitors and treat them well. \nVisitors gifts will be given and membership information made available. If you know someone wanting to join\, this is the last event to join until Flamingle in August. Let’s show them why we are different. \nDeadline for supplies:  April 4\, 2025 \nEveryone is welcome to join us any of these night but only paid ticket holders will be given supplies that night.
URL:https://deltaomegadelta.org/event/sip-see-birdhouses/
LOCATION:Masonic Lodge\, 321 Water Street\, Augusta\, Maine\, 04330
ATTACH;FMTTYPE=image/jpeg:https://deltaomegadelta.org/wp-content/uploads/2025/03/2025-04-11-birdhouses.jpg
END:VEVENT
BEGIN:VEVENT
DTSTART;TZID=America/New_York:20250423T180000
DTEND;TZID=America/New_York:20250423T203000
DTSTAMP:20260423T013607
CREATED:20250415T205709Z
LAST-MODIFIED:20250415T205805Z
UID:795-1745431200-1745440200@deltaomegadelta.org
SUMMARY:Anchor drop-Spring- Maine Greyhounds
DESCRIPTION:Members only. \nWe will be meeting onsite at the Maine Greyhound Placement organization. \nHere you will learn more about what they do and meet the dogs if you want. As a group we will be making dog toys out of fleece\, rope and tennis balls. \nRSVP through Facebook
URL:https://deltaomegadelta.org/event/anchor-drop-spring-maine-greyhounds/
LOCATION:231 Old Belgrade Road Augusta Maine\, 231 Old Belgrade Road\, Augusta\, ME\, 04330
ATTACH;FMTTYPE=image/jpeg:https://deltaomegadelta.org/wp-content/uploads/2025/04/2025-04-23-maine-grayhounds.jpg
END:VEVENT
END:VCALENDAR