BEGIN:VCALENDAR
VERSION:2.0
PRODID:-//Delta Omega Delta - ECPv6.15.20//NONSGML v1.0//EN
CALSCALE:GREGORIAN
METHOD:PUBLISH
X-ORIGINAL-URL:https://deltaomegadelta.org
X-WR-CALDESC:Events for Delta Omega Delta
REFRESH-INTERVAL;VALUE=DURATION:PT1H
X-Robots-Tag:noindex
X-PUBLISHED-TTL:PT1H
BEGIN:VTIMEZONE
TZID:America/New_York
BEGIN:DAYLIGHT
TZOFFSETFROM:-0500
TZOFFSETTO:-0400
TZNAME:EDT
DTSTART:20250309T070000
END:DAYLIGHT
BEGIN:STANDARD
TZOFFSETFROM:-0400
TZOFFSETTO:-0500
TZNAME:EST
DTSTART:20251102T060000
END:STANDARD
BEGIN:DAYLIGHT
TZOFFSETFROM:-0500
TZOFFSETTO:-0400
TZNAME:EDT
DTSTART:20260308T070000
END:DAYLIGHT
BEGIN:STANDARD
TZOFFSETFROM:-0400
TZOFFSETTO:-0500
TZNAME:EST
DTSTART:20261101T060000
END:STANDARD
BEGIN:DAYLIGHT
TZOFFSETFROM:-0500
TZOFFSETTO:-0400
TZNAME:EDT
DTSTART:20270314T070000
END:DAYLIGHT
BEGIN:STANDARD
TZOFFSETFROM:-0400
TZOFFSETTO:-0500
TZNAME:EST
DTSTART:20271107T060000
END:STANDARD
END:VTIMEZONE
BEGIN:VEVENT
DTSTART;TZID=America/New_York:20260302T170000
DTEND;TZID=America/New_York:20260302T180000
DTSTAMP:20260424T023848
CREATED:20260131T234641Z
LAST-MODIFIED:20260131T234710Z
UID:969-1772470800-1772474400@deltaomegadelta.org
SUMMARY:HAPPY to Volunteer HOUR
DESCRIPTION:Ladies\, come see how doing a small thing can create a large ripple.\nWe will be assisting with a few projects.\nSnacks are provided\nFun is sure to happen.\nThis was the most talked about onsite project we did in 2025!\nDelta is all about doing small acts of kindness\, and we want to show you how your time can be impactful and allow you to make new friends.\nA $5 donation would help us provide flowers for this project\, as well as provide you with a Volunteer badge and lanyard
URL:https://deltaomegadelta.org/event/happy-to-volunteer-hour/
LOCATION:83 Western Ave\, Augusta\, ME\, 83 Western Ave\, Augusta\, ME
ATTACH;FMTTYPE=image/png:https://deltaomegadelta.org/wp-content/uploads/2026/01/2026-03-02.png
END:VEVENT
BEGIN:VEVENT
DTSTART;TZID=America/New_York:20260316T180000
DTEND;TZID=America/New_York:20260316T200000
DTSTAMP:20260424T023848
CREATED:20260316T192841Z
LAST-MODIFIED:20260316T192841Z
UID:1045-1773684000-1773691200@deltaomegadelta.org
SUMMARY:Sister Night Night with Sara\, Sheila and Tamara
DESCRIPTION:A night of Serenity. Come learn some self-soothing techniques. We will move your body gently\, so come dressed comfortably\, or bring a change of clothes if you need one.\n\nMore details to come
URL:https://deltaomegadelta.org/event/sister-night-night-with-sara-sheila-and-tamara/
LOCATION:Kennebec Historical Society\, 1 N. Chestnut Street\, Augusta\, Maine\, 04330
ATTACH;FMTTYPE=image/jpeg:https://deltaomegadelta.org/wp-content/uploads/2026/03/2026-11-03.jpg
END:VEVENT
BEGIN:VEVENT
DTSTART;TZID=America/New_York:20260319T183000
DTEND;TZID=America/New_York:20260319T203000
DTSTAMP:20260424T023848
CREATED:20260131T234940Z
LAST-MODIFIED:20260311T204917Z
UID:974-1773945000-1773952200@deltaomegadelta.org
SUMMARY:Delta Fair-Annual Open House
DESCRIPTION:Curious? Did you know Delta Omega Delta has been around for 8 years? Let us entertain you for the night and allow you to experience all Delta has to offer.\nfood\ngames\nraffles\nand a tea towel\, paint printing station\nWe make meeting new friends easy.\nThis is a women’s group like no other! A sisterhood of women from the greater Augusta area. We have nothing to do with academics. We leave politics and religion out of our gatherings and focus on building friendships and doing small things to impact our communities. Some describe us as Girl Scouts with wine. \n\n\n\nDelta Omega Delta \n$5.00 \nPay now \n\n 
URL:https://deltaomegadelta.org/event/delta-fair-annual-open-house/
LOCATION:Masonic Lodge\, 321 Water Street\, Augusta\, Maine\, 04330
ATTACH;FMTTYPE=image/png:https://deltaomegadelta.org/wp-content/uploads/2026/01/2026-03-19.png
END:VEVENT
END:VCALENDAR