BEGIN:VCALENDAR
VERSION:2.0
PRODID:-//Delta Omega Delta - ECPv6.15.20//NONSGML v1.0//EN
CALSCALE:GREGORIAN
METHOD:PUBLISH
X-WR-CALNAME:Delta Omega Delta
X-ORIGINAL-URL:https://deltaomegadelta.org
X-WR-CALDESC:Events for Delta Omega Delta
REFRESH-INTERVAL;VALUE=DURATION:PT1H
X-Robots-Tag:noindex
X-PUBLISHED-TTL:PT1H
BEGIN:VTIMEZONE
TZID:America/New_York
BEGIN:DAYLIGHT
TZOFFSETFROM:-0500
TZOFFSETTO:-0400
TZNAME:EDT
DTSTART:20250309T070000
END:DAYLIGHT
BEGIN:STANDARD
TZOFFSETFROM:-0400
TZOFFSETTO:-0500
TZNAME:EST
DTSTART:20251102T060000
END:STANDARD
BEGIN:DAYLIGHT
TZOFFSETFROM:-0500
TZOFFSETTO:-0400
TZNAME:EDT
DTSTART:20260308T070000
END:DAYLIGHT
BEGIN:STANDARD
TZOFFSETFROM:-0400
TZOFFSETTO:-0500
TZNAME:EST
DTSTART:20261101T060000
END:STANDARD
BEGIN:DAYLIGHT
TZOFFSETFROM:-0500
TZOFFSETTO:-0400
TZNAME:EDT
DTSTART:20270314T070000
END:DAYLIGHT
BEGIN:STANDARD
TZOFFSETFROM:-0400
TZOFFSETTO:-0500
TZNAME:EST
DTSTART:20271107T060000
END:STANDARD
END:VTIMEZONE
BEGIN:VEVENT
DTSTART;TZID=America/New_York:20261006T180000
DTEND;TZID=America/New_York:20261006T203000
DTSTAMP:20260424T103529
CREATED:20260316T191706Z
LAST-MODIFIED:20260316T191706Z
UID:1038-1791309600-1791318600@deltaomegadelta.org
SUMMARY:Social Night - Trivia
DESCRIPTION:Ladies’ night out. Grab food at 6pm\, and trivia starts at 6:30.\nWe would love to sit together\, so please RSVP. Team sizes are a maximum of 8 so if we need to\, we will break up into 2 tables.\nno cost to play
URL:https://deltaomegadelta.org/event/social-night-trivia/
LOCATION:Buck’s Naked BBQ\, 252 Water Street\, Gardiner\, Me
ATTACH;FMTTYPE=image/jpeg:https://deltaomegadelta.org/wp-content/uploads/2026/03/2026-10-06.jpg
END:VEVENT
BEGIN:VEVENT
DTSTART;TZID=America/New_York:20261016T180000
DTEND;TZID=America/New_York:20261016T200000
DTSTAMP:20260424T103529
CREATED:20260316T192638Z
LAST-MODIFIED:20260316T192638Z
UID:1042-1792173600-1792180800@deltaomegadelta.org
SUMMARY:Sunshine Project - Cleaning kits
DESCRIPTION:This is being held on-site at the Salvation Army. The wish list for cleaning items will be made soon.\nTo fill our hour\, we will be helping set up the coat drive
URL:https://deltaomegadelta.org/event/sunshine-project-cleaning-kits/
LOCATION:Salvation Army\, 36 Eastern Avenue\, Augusta\, ME
ATTACH;FMTTYPE=image/jpeg:https://deltaomegadelta.org/wp-content/uploads/2026/03/2026-10-16.jpg
END:VEVENT
END:VCALENDAR